BEGIN:VCALENDAR
VERSION:2.0
PRODID:-//United for Literacy - ECPv6.15.20//NONSGML v1.0//EN
CALSCALE:GREGORIAN
METHOD:PUBLISH
X-ORIGINAL-URL:https://unitedforliteracy.info
X-WR-CALDESC:Events for United for Literacy
REFRESH-INTERVAL;VALUE=DURATION:PT1H
X-Robots-Tag:noindex
X-PUBLISHED-TTL:PT1H
BEGIN:VTIMEZONE
TZID:America/Chicago
BEGIN:DAYLIGHT
TZOFFSETFROM:-0600
TZOFFSETTO:-0500
TZNAME:CDT
DTSTART:20270314T080000
END:DAYLIGHT
BEGIN:STANDARD
TZOFFSETFROM:-0500
TZOFFSETTO:-0600
TZNAME:CST
DTSTART:20271107T070000
END:STANDARD
BEGIN:DAYLIGHT
TZOFFSETFROM:-0600
TZOFFSETTO:-0500
TZNAME:CDT
DTSTART:20280312T080000
END:DAYLIGHT
BEGIN:STANDARD
TZOFFSETFROM:-0500
TZOFFSETTO:-0600
TZNAME:CST
DTSTART:20281105T070000
END:STANDARD
BEGIN:DAYLIGHT
TZOFFSETFROM:-0600
TZOFFSETTO:-0500
TZNAME:CDT
DTSTART:20290311T080000
END:DAYLIGHT
BEGIN:STANDARD
TZOFFSETFROM:-0500
TZOFFSETTO:-0600
TZNAME:CST
DTSTART:20291104T070000
END:STANDARD
END:VTIMEZONE
BEGIN:VEVENT
DTSTART;TZID=America/Chicago:20281003T111500
DTEND;TZID=America/Chicago:20281003T120000
DTSTAMP:20260422T053137
CREATED:20240510T155003Z
LAST-MODIFIED:20240510T155003Z
UID:10000333-1854184500-1854187200@unitedforliteracy.info
SUMMARY:RPL's Tunes and Tales Storytime
DESCRIPTION:Join RPL for this active Storytime! \n\n\n\n\n\n\nThe Montague Crew will read stories\, sing songs\, and have your child up and dancing at this fun\, active story time. \nWhere: Montague branch\, Connie Lane Room
URL:https://unitedforliteracy.info/event/rpls-tunes-and-tales-storytime/2028-10-03/
LOCATION:RPL: Montague Branch\, 1238 South Winnebago Street\, Rockford\, IL\, 61102\, United States
END:VEVENT
BEGIN:VEVENT
DTSTART;TZID=America/Chicago:20281005T101500
DTEND;TZID=America/Chicago:20281005T110000
DTSTAMP:20260422T053137
CREATED:20240510T184325Z
LAST-MODIFIED:20240510T184325Z
UID:10000595-1854353700-1854356400@unitedforliteracy.info
SUMMARY:RPL's Preschool Storytime (Ages 3 - 5)
DESCRIPTION:Meet new friends\, listen to stories\, and get moving in this fun\, interactive story time to strengthen social\, fine motor\, and early literacy skills. \n\n\n\n\n\n\nPlease always check the online calendar via RPL’s website\, as programs may be canceled without notice due to unplanned absence/illness or unavoidable schedule conflicts/changes. Songs\, rhymes\, and activities support this storytime. Shared books count toward 1\,000 Books Before Kindergarten\, 300 Books Before Third Grade\, and other RPL reading programs such as our Summer Reading Challenge. Meet in the Friends of RPL Community Room at East Branch.
URL:https://unitedforliteracy.info/event/rpls-preschool-storytime-ages-3-5/2028-10-05/
LOCATION:Rockford Public Library – East Branch\, 6685 East State Street\, Rockford\, IL\, IL\, 61108\, United States
END:VEVENT
BEGIN:VEVENT
DTSTART;TZID=America/Chicago:20281010T111500
DTEND;TZID=America/Chicago:20281010T120000
DTSTAMP:20260422T053137
CREATED:20240510T155003Z
LAST-MODIFIED:20240510T155003Z
UID:10000334-1854789300-1854792000@unitedforliteracy.info
SUMMARY:RPL's Tunes and Tales Storytime
DESCRIPTION:Join RPL for this active Storytime! \n\n\n\n\n\n\nThe Montague Crew will read stories\, sing songs\, and have your child up and dancing at this fun\, active story time. \nWhere: Montague branch\, Connie Lane Room
URL:https://unitedforliteracy.info/event/rpls-tunes-and-tales-storytime/2028-10-10/
LOCATION:RPL: Montague Branch\, 1238 South Winnebago Street\, Rockford\, IL\, 61102\, United States
END:VEVENT
BEGIN:VEVENT
DTSTART;TZID=America/Chicago:20281012T101500
DTEND;TZID=America/Chicago:20281012T110000
DTSTAMP:20260422T053137
CREATED:20240510T184325Z
LAST-MODIFIED:20240510T184325Z
UID:10000596-1854958500-1854961200@unitedforliteracy.info
SUMMARY:RPL's Preschool Storytime (Ages 3 - 5)
DESCRIPTION:Meet new friends\, listen to stories\, and get moving in this fun\, interactive story time to strengthen social\, fine motor\, and early literacy skills. \n\n\n\n\n\n\nPlease always check the online calendar via RPL’s website\, as programs may be canceled without notice due to unplanned absence/illness or unavoidable schedule conflicts/changes. Songs\, rhymes\, and activities support this storytime. Shared books count toward 1\,000 Books Before Kindergarten\, 300 Books Before Third Grade\, and other RPL reading programs such as our Summer Reading Challenge. Meet in the Friends of RPL Community Room at East Branch.
URL:https://unitedforliteracy.info/event/rpls-preschool-storytime-ages-3-5/2028-10-12/
LOCATION:Rockford Public Library – East Branch\, 6685 East State Street\, Rockford\, IL\, IL\, 61108\, United States
END:VEVENT
BEGIN:VEVENT
DTSTART;TZID=America/Chicago:20281017T111500
DTEND;TZID=America/Chicago:20281017T120000
DTSTAMP:20260422T053137
CREATED:20240510T155003Z
LAST-MODIFIED:20240510T155003Z
UID:10000335-1855394100-1855396800@unitedforliteracy.info
SUMMARY:RPL's Tunes and Tales Storytime
DESCRIPTION:Join RPL for this active Storytime! \n\n\n\n\n\n\nThe Montague Crew will read stories\, sing songs\, and have your child up and dancing at this fun\, active story time. \nWhere: Montague branch\, Connie Lane Room
URL:https://unitedforliteracy.info/event/rpls-tunes-and-tales-storytime/2028-10-17/
LOCATION:RPL: Montague Branch\, 1238 South Winnebago Street\, Rockford\, IL\, 61102\, United States
END:VEVENT
BEGIN:VEVENT
DTSTART;TZID=America/Chicago:20281019T101500
DTEND;TZID=America/Chicago:20281019T110000
DTSTAMP:20260422T053137
CREATED:20240510T184325Z
LAST-MODIFIED:20240510T184325Z
UID:10000597-1855563300-1855566000@unitedforliteracy.info
SUMMARY:RPL's Preschool Storytime (Ages 3 - 5)
DESCRIPTION:Meet new friends\, listen to stories\, and get moving in this fun\, interactive story time to strengthen social\, fine motor\, and early literacy skills. \n\n\n\n\n\n\nPlease always check the online calendar via RPL’s website\, as programs may be canceled without notice due to unplanned absence/illness or unavoidable schedule conflicts/changes. Songs\, rhymes\, and activities support this storytime. Shared books count toward 1\,000 Books Before Kindergarten\, 300 Books Before Third Grade\, and other RPL reading programs such as our Summer Reading Challenge. Meet in the Friends of RPL Community Room at East Branch.
URL:https://unitedforliteracy.info/event/rpls-preschool-storytime-ages-3-5/2028-10-19/
LOCATION:Rockford Public Library – East Branch\, 6685 East State Street\, Rockford\, IL\, IL\, 61108\, United States
END:VEVENT
BEGIN:VEVENT
DTSTART;TZID=America/Chicago:20281024T111500
DTEND;TZID=America/Chicago:20281024T120000
DTSTAMP:20260422T053137
CREATED:20240510T155003Z
LAST-MODIFIED:20240510T155003Z
UID:10000336-1855998900-1856001600@unitedforliteracy.info
SUMMARY:RPL's Tunes and Tales Storytime
DESCRIPTION:Join RPL for this active Storytime! \n\n\n\n\n\n\nThe Montague Crew will read stories\, sing songs\, and have your child up and dancing at this fun\, active story time. \nWhere: Montague branch\, Connie Lane Room
URL:https://unitedforliteracy.info/event/rpls-tunes-and-tales-storytime/2028-10-24/
LOCATION:RPL: Montague Branch\, 1238 South Winnebago Street\, Rockford\, IL\, 61102\, United States
END:VEVENT
BEGIN:VEVENT
DTSTART;TZID=America/Chicago:20281026T101500
DTEND;TZID=America/Chicago:20281026T110000
DTSTAMP:20260422T053137
CREATED:20240510T184325Z
LAST-MODIFIED:20240510T184325Z
UID:10000598-1856168100-1856170800@unitedforliteracy.info
SUMMARY:RPL's Preschool Storytime (Ages 3 - 5)
DESCRIPTION:Meet new friends\, listen to stories\, and get moving in this fun\, interactive story time to strengthen social\, fine motor\, and early literacy skills. \n\n\n\n\n\n\nPlease always check the online calendar via RPL’s website\, as programs may be canceled without notice due to unplanned absence/illness or unavoidable schedule conflicts/changes. Songs\, rhymes\, and activities support this storytime. Shared books count toward 1\,000 Books Before Kindergarten\, 300 Books Before Third Grade\, and other RPL reading programs such as our Summer Reading Challenge. Meet in the Friends of RPL Community Room at East Branch.
URL:https://unitedforliteracy.info/event/rpls-preschool-storytime-ages-3-5/2028-10-26/
LOCATION:Rockford Public Library – East Branch\, 6685 East State Street\, Rockford\, IL\, IL\, 61108\, United States
END:VEVENT
BEGIN:VEVENT
DTSTART;TZID=America/Chicago:20281031T111500
DTEND;TZID=America/Chicago:20281031T120000
DTSTAMP:20260422T053137
CREATED:20240510T155003Z
LAST-MODIFIED:20240510T155003Z
UID:10000337-1856603700-1856606400@unitedforliteracy.info
SUMMARY:RPL's Tunes and Tales Storytime
DESCRIPTION:Join RPL for this active Storytime! \n\n\n\n\n\n\nThe Montague Crew will read stories\, sing songs\, and have your child up and dancing at this fun\, active story time. \nWhere: Montague branch\, Connie Lane Room
URL:https://unitedforliteracy.info/event/rpls-tunes-and-tales-storytime/2028-10-31/
LOCATION:RPL: Montague Branch\, 1238 South Winnebago Street\, Rockford\, IL\, 61102\, United States
END:VEVENT
END:VCALENDAR