BEGIN:VCALENDAR
VERSION:2.0
PRODID:-//United for Literacy - ECPv6.15.20//NONSGML v1.0//EN
CALSCALE:GREGORIAN
METHOD:PUBLISH
X-ORIGINAL-URL:https://unitedforliteracy.info
X-WR-CALDESC:Events for United for Literacy
REFRESH-INTERVAL;VALUE=DURATION:PT1H
X-Robots-Tag:noindex
X-PUBLISHED-TTL:PT1H
BEGIN:VTIMEZONE
TZID:America/Chicago
BEGIN:DAYLIGHT
TZOFFSETFROM:-0600
TZOFFSETTO:-0500
TZNAME:CDT
DTSTART:20270314T080000
END:DAYLIGHT
BEGIN:STANDARD
TZOFFSETFROM:-0500
TZOFFSETTO:-0600
TZNAME:CST
DTSTART:20271107T070000
END:STANDARD
BEGIN:DAYLIGHT
TZOFFSETFROM:-0600
TZOFFSETTO:-0500
TZNAME:CDT
DTSTART:20280312T080000
END:DAYLIGHT
BEGIN:STANDARD
TZOFFSETFROM:-0500
TZOFFSETTO:-0600
TZNAME:CST
DTSTART:20281105T070000
END:STANDARD
BEGIN:DAYLIGHT
TZOFFSETFROM:-0600
TZOFFSETTO:-0500
TZNAME:CDT
DTSTART:20290311T080000
END:DAYLIGHT
BEGIN:STANDARD
TZOFFSETFROM:-0500
TZOFFSETTO:-0600
TZNAME:CST
DTSTART:20291104T070000
END:STANDARD
END:VTIMEZONE
BEGIN:VEVENT
DTSTART;TZID=America/Chicago:20280404T111500
DTEND;TZID=America/Chicago:20280404T120000
DTSTAMP:20260421T194318
CREATED:20240510T155003Z
LAST-MODIFIED:20240510T155003Z
UID:10000307-1838459700-1838462400@unitedforliteracy.info
SUMMARY:RPL's Tunes and Tales Storytime
DESCRIPTION:Join RPL for this active Storytime! \n\n\n\n\n\n\nThe Montague Crew will read stories\, sing songs\, and have your child up and dancing at this fun\, active story time. \nWhere: Montague branch\, Connie Lane Room
URL:https://unitedforliteracy.info/event/rpls-tunes-and-tales-storytime/2028-04-04/
LOCATION:RPL: Montague Branch\, 1238 South Winnebago Street\, Rockford\, IL\, 61102\, United States
END:VEVENT
BEGIN:VEVENT
DTSTART;TZID=America/Chicago:20280406T101500
DTEND;TZID=America/Chicago:20280406T110000
DTSTAMP:20260421T194318
CREATED:20240510T184325Z
LAST-MODIFIED:20240510T184325Z
UID:10000569-1838628900-1838631600@unitedforliteracy.info
SUMMARY:RPL's Preschool Storytime (Ages 3 - 5)
DESCRIPTION:Meet new friends\, listen to stories\, and get moving in this fun\, interactive story time to strengthen social\, fine motor\, and early literacy skills. \n\n\n\n\n\n\nPlease always check the online calendar via RPL’s website\, as programs may be canceled without notice due to unplanned absence/illness or unavoidable schedule conflicts/changes. Songs\, rhymes\, and activities support this storytime. Shared books count toward 1\,000 Books Before Kindergarten\, 300 Books Before Third Grade\, and other RPL reading programs such as our Summer Reading Challenge. Meet in the Friends of RPL Community Room at East Branch.
URL:https://unitedforliteracy.info/event/rpls-preschool-storytime-ages-3-5/2028-04-06/
LOCATION:Rockford Public Library – East Branch\, 6685 East State Street\, Rockford\, IL\, IL\, 61108\, United States
END:VEVENT
BEGIN:VEVENT
DTSTART;TZID=America/Chicago:20280411T111500
DTEND;TZID=America/Chicago:20280411T120000
DTSTAMP:20260421T194318
CREATED:20240510T155003Z
LAST-MODIFIED:20240510T155003Z
UID:10000308-1839064500-1839067200@unitedforliteracy.info
SUMMARY:RPL's Tunes and Tales Storytime
DESCRIPTION:Join RPL for this active Storytime! \n\n\n\n\n\n\nThe Montague Crew will read stories\, sing songs\, and have your child up and dancing at this fun\, active story time. \nWhere: Montague branch\, Connie Lane Room
URL:https://unitedforliteracy.info/event/rpls-tunes-and-tales-storytime/2028-04-11/
LOCATION:RPL: Montague Branch\, 1238 South Winnebago Street\, Rockford\, IL\, 61102\, United States
END:VEVENT
BEGIN:VEVENT
DTSTART;TZID=America/Chicago:20280413T101500
DTEND;TZID=America/Chicago:20280413T110000
DTSTAMP:20260421T194318
CREATED:20240510T184325Z
LAST-MODIFIED:20240510T184325Z
UID:10000570-1839233700-1839236400@unitedforliteracy.info
SUMMARY:RPL's Preschool Storytime (Ages 3 - 5)
DESCRIPTION:Meet new friends\, listen to stories\, and get moving in this fun\, interactive story time to strengthen social\, fine motor\, and early literacy skills. \n\n\n\n\n\n\nPlease always check the online calendar via RPL’s website\, as programs may be canceled without notice due to unplanned absence/illness or unavoidable schedule conflicts/changes. Songs\, rhymes\, and activities support this storytime. Shared books count toward 1\,000 Books Before Kindergarten\, 300 Books Before Third Grade\, and other RPL reading programs such as our Summer Reading Challenge. Meet in the Friends of RPL Community Room at East Branch.
URL:https://unitedforliteracy.info/event/rpls-preschool-storytime-ages-3-5/2028-04-13/
LOCATION:Rockford Public Library – East Branch\, 6685 East State Street\, Rockford\, IL\, IL\, 61108\, United States
END:VEVENT
BEGIN:VEVENT
DTSTART;TZID=America/Chicago:20280418T111500
DTEND;TZID=America/Chicago:20280418T120000
DTSTAMP:20260421T194318
CREATED:20240510T155003Z
LAST-MODIFIED:20240510T155003Z
UID:10000309-1839669300-1839672000@unitedforliteracy.info
SUMMARY:RPL's Tunes and Tales Storytime
DESCRIPTION:Join RPL for this active Storytime! \n\n\n\n\n\n\nThe Montague Crew will read stories\, sing songs\, and have your child up and dancing at this fun\, active story time. \nWhere: Montague branch\, Connie Lane Room
URL:https://unitedforliteracy.info/event/rpls-tunes-and-tales-storytime/2028-04-18/
LOCATION:RPL: Montague Branch\, 1238 South Winnebago Street\, Rockford\, IL\, 61102\, United States
END:VEVENT
BEGIN:VEVENT
DTSTART;TZID=America/Chicago:20280420T101500
DTEND;TZID=America/Chicago:20280420T110000
DTSTAMP:20260421T194318
CREATED:20240510T184325Z
LAST-MODIFIED:20240510T184325Z
UID:10000571-1839838500-1839841200@unitedforliteracy.info
SUMMARY:RPL's Preschool Storytime (Ages 3 - 5)
DESCRIPTION:Meet new friends\, listen to stories\, and get moving in this fun\, interactive story time to strengthen social\, fine motor\, and early literacy skills. \n\n\n\n\n\n\nPlease always check the online calendar via RPL’s website\, as programs may be canceled without notice due to unplanned absence/illness or unavoidable schedule conflicts/changes. Songs\, rhymes\, and activities support this storytime. Shared books count toward 1\,000 Books Before Kindergarten\, 300 Books Before Third Grade\, and other RPL reading programs such as our Summer Reading Challenge. Meet in the Friends of RPL Community Room at East Branch.
URL:https://unitedforliteracy.info/event/rpls-preschool-storytime-ages-3-5/2028-04-20/
LOCATION:Rockford Public Library – East Branch\, 6685 East State Street\, Rockford\, IL\, IL\, 61108\, United States
END:VEVENT
BEGIN:VEVENT
DTSTART;TZID=America/Chicago:20280425T111500
DTEND;TZID=America/Chicago:20280425T120000
DTSTAMP:20260421T194318
CREATED:20240510T155003Z
LAST-MODIFIED:20240510T155003Z
UID:10000310-1840274100-1840276800@unitedforliteracy.info
SUMMARY:RPL's Tunes and Tales Storytime
DESCRIPTION:Join RPL for this active Storytime! \n\n\n\n\n\n\nThe Montague Crew will read stories\, sing songs\, and have your child up and dancing at this fun\, active story time. \nWhere: Montague branch\, Connie Lane Room
URL:https://unitedforliteracy.info/event/rpls-tunes-and-tales-storytime/2028-04-25/
LOCATION:RPL: Montague Branch\, 1238 South Winnebago Street\, Rockford\, IL\, 61102\, United States
END:VEVENT
BEGIN:VEVENT
DTSTART;TZID=America/Chicago:20280427T101500
DTEND;TZID=America/Chicago:20280427T110000
DTSTAMP:20260421T194318
CREATED:20240510T184325Z
LAST-MODIFIED:20240510T184325Z
UID:10000572-1840443300-1840446000@unitedforliteracy.info
SUMMARY:RPL's Preschool Storytime (Ages 3 - 5)
DESCRIPTION:Meet new friends\, listen to stories\, and get moving in this fun\, interactive story time to strengthen social\, fine motor\, and early literacy skills. \n\n\n\n\n\n\nPlease always check the online calendar via RPL’s website\, as programs may be canceled without notice due to unplanned absence/illness or unavoidable schedule conflicts/changes. Songs\, rhymes\, and activities support this storytime. Shared books count toward 1\,000 Books Before Kindergarten\, 300 Books Before Third Grade\, and other RPL reading programs such as our Summer Reading Challenge. Meet in the Friends of RPL Community Room at East Branch.
URL:https://unitedforliteracy.info/event/rpls-preschool-storytime-ages-3-5/2028-04-27/
LOCATION:Rockford Public Library – East Branch\, 6685 East State Street\, Rockford\, IL\, IL\, 61108\, United States
END:VEVENT
END:VCALENDAR