BEGIN:VCALENDAR
VERSION:2.0
PRODID:-//United for Literacy - ECPv6.15.20//NONSGML v1.0//EN
CALSCALE:GREGORIAN
METHOD:PUBLISH
X-ORIGINAL-URL:https://unitedforliteracy.info
X-WR-CALDESC:Events for United for Literacy
REFRESH-INTERVAL;VALUE=DURATION:PT1H
X-Robots-Tag:noindex
X-PUBLISHED-TTL:PT1H
BEGIN:VTIMEZONE
TZID:America/Chicago
BEGIN:DAYLIGHT
TZOFFSETFROM:-0600
TZOFFSETTO:-0500
TZNAME:CDT
DTSTART:20230312T080000
END:DAYLIGHT
BEGIN:STANDARD
TZOFFSETFROM:-0500
TZOFFSETTO:-0600
TZNAME:CST
DTSTART:20231105T070000
END:STANDARD
BEGIN:DAYLIGHT
TZOFFSETFROM:-0600
TZOFFSETTO:-0500
TZNAME:CDT
DTSTART:20240310T080000
END:DAYLIGHT
BEGIN:STANDARD
TZOFFSETFROM:-0500
TZOFFSETTO:-0600
TZNAME:CST
DTSTART:20241103T070000
END:STANDARD
BEGIN:DAYLIGHT
TZOFFSETFROM:-0600
TZOFFSETTO:-0500
TZNAME:CDT
DTSTART:20250309T080000
END:DAYLIGHT
BEGIN:STANDARD
TZOFFSETFROM:-0500
TZOFFSETTO:-0600
TZNAME:CST
DTSTART:20251102T070000
END:STANDARD
END:VTIMEZONE
BEGIN:VEVENT
DTSTART;TZID=America/Chicago:20240213T111500
DTEND;TZID=America/Chicago:20240213T114500
DTSTAMP:20260422T064002
CREATED:20231220T193544Z
LAST-MODIFIED:20231220T193544Z
UID:10000064-1707822900-1707824700@unitedforliteracy.info
SUMMARY:RPL Montague Branch: Tunes and Tales Storytime
DESCRIPTION:Where: Connie Lane Room \nJoin RPL for this active storytime! \n\n\n\n\n\n\nThe Montague Crew will read stories\, sing songs\, and have you up and dancing at this fun\, active storytime.
URL:https://unitedforliteracy.info/event/rpl-montague-branch-tunes-and-tales-storytime-7/
LOCATION:RPL: Montague Branch\, 1238 South Winnebago Street\, Rockford\, IL\, 61102\, United States
END:VEVENT
BEGIN:VEVENT
DTSTART;TZID=America/Chicago:20240227T111500
DTEND;TZID=America/Chicago:20240227T114500
DTSTAMP:20260422T064002
CREATED:20231220T194805Z
LAST-MODIFIED:20231220T194805Z
UID:10000070-1709032500-1709034300@unitedforliteracy.info
SUMMARY:RPL Montague Branch: Tunes and Tales Storytime
DESCRIPTION:Where: Connie Lane Room \nJoin RPL for this active storytime! \n\n\n\n\n\n\nThe Montague Crew will read stories\, sing songs\, and have you up and dancing at this fun\, active storytime.
URL:https://unitedforliteracy.info/event/rpl-montague-branch-tunes-and-tales-storytime-9/
LOCATION:RPL: Montague Branch\, 1238 South Winnebago Street\, Rockford\, IL\, 61102\, United States
END:VEVENT
END:VCALENDAR