BEGIN:VCALENDAR
VERSION:2.0
PRODID:-//United for Literacy - ECPv6.15.20//NONSGML v1.0//EN
CALSCALE:GREGORIAN
METHOD:PUBLISH
X-ORIGINAL-URL:https://unitedforliteracy.info
X-WR-CALDESC:Events for United for Literacy
REFRESH-INTERVAL;VALUE=DURATION:PT1H
X-Robots-Tag:noindex
X-PUBLISHED-TTL:PT1H
BEGIN:VTIMEZONE
TZID:America/Chicago
BEGIN:DAYLIGHT
TZOFFSETFROM:-0600
TZOFFSETTO:-0500
TZNAME:CDT
DTSTART:20230312T080000
END:DAYLIGHT
BEGIN:STANDARD
TZOFFSETFROM:-0500
TZOFFSETTO:-0600
TZNAME:CST
DTSTART:20231105T070000
END:STANDARD
BEGIN:DAYLIGHT
TZOFFSETFROM:-0600
TZOFFSETTO:-0500
TZNAME:CDT
DTSTART:20240310T080000
END:DAYLIGHT
BEGIN:STANDARD
TZOFFSETFROM:-0500
TZOFFSETTO:-0600
TZNAME:CST
DTSTART:20241103T070000
END:STANDARD
BEGIN:DAYLIGHT
TZOFFSETFROM:-0600
TZOFFSETTO:-0500
TZNAME:CDT
DTSTART:20250309T080000
END:DAYLIGHT
BEGIN:STANDARD
TZOFFSETFROM:-0500
TZOFFSETTO:-0600
TZNAME:CST
DTSTART:20251102T070000
END:STANDARD
END:VTIMEZONE
BEGIN:VEVENT
DTSTART;TZID=America/Chicago:20240703T100000
DTEND;TZID=America/Chicago:20240703T110000
DTSTAMP:20260419T193735
CREATED:20240531T163357Z
LAST-MODIFIED:20240531T163431Z
UID:10000722-1720000800-1720004400@unitedforliteracy.info
SUMMARY:NSLD: In Person Story Time
DESCRIPTION:Age Group: Preschool\nChildren ages 3-5 enjoy stories\, music\, movement\, fingerplays\, and crafts with their caregivers. \nWhere: Fun Place at NSLD/Loves Park
URL:https://unitedforliteracy.info/event/nsld-in-person-story-time-2/2024-07-03/
LOCATION:North Suburban Library District\, 6340 N. 2nd St
END:VEVENT
BEGIN:VEVENT
DTSTART;TZID=America/Chicago:20240710T100000
DTEND;TZID=America/Chicago:20240710T110000
DTSTAMP:20260419T193735
CREATED:20240531T163357Z
LAST-MODIFIED:20240531T163431Z
UID:10000723-1720605600-1720609200@unitedforliteracy.info
SUMMARY:NSLD: In Person Story Time
DESCRIPTION:Age Group: Preschool\nChildren ages 3-5 enjoy stories\, music\, movement\, fingerplays\, and crafts with their caregivers. \nWhere: Fun Place at NSLD/Loves Park
URL:https://unitedforliteracy.info/event/nsld-in-person-story-time-2/2024-07-10/
LOCATION:North Suburban Library District\, 6340 N. 2nd St
END:VEVENT
BEGIN:VEVENT
DTSTART;TZID=America/Chicago:20240717T100000
DTEND;TZID=America/Chicago:20240717T110000
DTSTAMP:20260419T193735
CREATED:20240531T163357Z
LAST-MODIFIED:20240531T163431Z
UID:10000724-1721210400-1721214000@unitedforliteracy.info
SUMMARY:NSLD: In Person Story Time
DESCRIPTION:Age Group: Preschool\nChildren ages 3-5 enjoy stories\, music\, movement\, fingerplays\, and crafts with their caregivers. \nWhere: Fun Place at NSLD/Loves Park
URL:https://unitedforliteracy.info/event/nsld-in-person-story-time-2/2024-07-17/
LOCATION:North Suburban Library District\, 6340 N. 2nd St
END:VEVENT
BEGIN:VEVENT
DTSTART;TZID=America/Chicago:20240724T100000
DTEND;TZID=America/Chicago:20240724T110000
DTSTAMP:20260419T193735
CREATED:20240531T163357Z
LAST-MODIFIED:20240531T163431Z
UID:10000725-1721815200-1721818800@unitedforliteracy.info
SUMMARY:NSLD: In Person Story Time
DESCRIPTION:Age Group: Preschool\nChildren ages 3-5 enjoy stories\, music\, movement\, fingerplays\, and crafts with their caregivers. \nWhere: Fun Place at NSLD/Loves Park
URL:https://unitedforliteracy.info/event/nsld-in-person-story-time-2/2024-07-24/
LOCATION:North Suburban Library District\, 6340 N. 2nd St
END:VEVENT
END:VCALENDAR