BEGIN:VCALENDAR
VERSION:2.0
PRODID:-//United for Literacy - ECPv6.15.20//NONSGML v1.0//EN
CALSCALE:GREGORIAN
METHOD:PUBLISH
X-ORIGINAL-URL:https://unitedforliteracy.info
X-WR-CALDESC:Events for United for Literacy
REFRESH-INTERVAL;VALUE=DURATION:PT1H
X-Robots-Tag:noindex
X-PUBLISHED-TTL:PT1H
BEGIN:VTIMEZONE
TZID:America/Chicago
BEGIN:DAYLIGHT
TZOFFSETFROM:-0600
TZOFFSETTO:-0500
TZNAME:CDT
DTSTART:20230312T080000
END:DAYLIGHT
BEGIN:STANDARD
TZOFFSETFROM:-0500
TZOFFSETTO:-0600
TZNAME:CST
DTSTART:20231105T070000
END:STANDARD
BEGIN:DAYLIGHT
TZOFFSETFROM:-0600
TZOFFSETTO:-0500
TZNAME:CDT
DTSTART:20240310T080000
END:DAYLIGHT
BEGIN:STANDARD
TZOFFSETFROM:-0500
TZOFFSETTO:-0600
TZNAME:CST
DTSTART:20241103T070000
END:STANDARD
BEGIN:DAYLIGHT
TZOFFSETFROM:-0600
TZOFFSETTO:-0500
TZNAME:CDT
DTSTART:20250309T080000
END:DAYLIGHT
BEGIN:STANDARD
TZOFFSETFROM:-0500
TZOFFSETTO:-0600
TZNAME:CST
DTSTART:20251102T070000
END:STANDARD
END:VTIMEZONE
BEGIN:VEVENT
DTSTART;TZID=America/Chicago:20240701T180000
DTEND;TZID=America/Chicago:20240701T190000
DTSTAMP:20260419T171054
CREATED:20240531T162848Z
LAST-MODIFIED:20240531T162848Z
UID:10000714-1719856800-1719860400@unitedforliteracy.info
SUMMARY:NSLD: In Person Story Time
DESCRIPTION:Age Group: Preschool\nChildren ages 3-5 enjoy stories\, music\, movement\, fingerplays\, and crafts with their caregivers. \nWhere: Fun Place at NSLD/Loves Park
URL:https://unitedforliteracy.info/event/nsld-in-person-story-time/2024-07-01/
LOCATION:North Suburban Library District\, 6340 N. 2nd St
END:VEVENT
BEGIN:VEVENT
DTSTART;TZID=America/Chicago:20240703T100000
DTEND;TZID=America/Chicago:20240703T110000
DTSTAMP:20260419T171054
CREATED:20240531T163357Z
LAST-MODIFIED:20240531T163431Z
UID:10000722-1720000800-1720004400@unitedforliteracy.info
SUMMARY:NSLD: In Person Story Time
DESCRIPTION:Age Group: Preschool\nChildren ages 3-5 enjoy stories\, music\, movement\, fingerplays\, and crafts with their caregivers. \nWhere: Fun Place at NSLD/Loves Park
URL:https://unitedforliteracy.info/event/nsld-in-person-story-time-2/2024-07-03/
LOCATION:North Suburban Library District\, 6340 N. 2nd St
END:VEVENT
BEGIN:VEVENT
DTSTART;TZID=America/Chicago:20240704T100000
DTEND;TZID=America/Chicago:20240704T110000
DTSTAMP:20260419T171054
CREATED:20240531T164256Z
LAST-MODIFIED:20240531T164324Z
UID:10000731-1720087200-1720090800@unitedforliteracy.info
SUMMARY:NSLD: In Person Story Time
DESCRIPTION:Program Type: Preschool\n\n\nAge Group: Children\, Preschool\n\nProgram Description\nEvent Details\n\nChildren ages 3-5 enjoy stories\, music\, movement\, fingerplays\, and crafts with their caregivers. \nWhere: \nLarge Meeting Room – R\n\nNSLD/Roscoe\n\n5562 Clayton Cir\nRoscoe\, IL 61073\n 
URL:https://unitedforliteracy.info/event/nsld-in-person-story-time-3/2024-07-04/
LOCATION:NSLD Roscoe\, 5562 Clayton Cir\, Roscoe\, IL\, 61073\, United States
END:VEVENT
BEGIN:VEVENT
DTSTART;TZID=America/Chicago:20240708T180000
DTEND;TZID=America/Chicago:20240708T190000
DTSTAMP:20260419T171054
CREATED:20240531T162848Z
LAST-MODIFIED:20240531T162848Z
UID:10000715-1720461600-1720465200@unitedforliteracy.info
SUMMARY:NSLD: In Person Story Time
DESCRIPTION:Age Group: Preschool\nChildren ages 3-5 enjoy stories\, music\, movement\, fingerplays\, and crafts with their caregivers. \nWhere: Fun Place at NSLD/Loves Park
URL:https://unitedforliteracy.info/event/nsld-in-person-story-time/2024-07-08/
LOCATION:North Suburban Library District\, 6340 N. 2nd St
END:VEVENT
BEGIN:VEVENT
DTSTART;TZID=America/Chicago:20240710T100000
DTEND;TZID=America/Chicago:20240710T110000
DTSTAMP:20260419T171054
CREATED:20240531T163357Z
LAST-MODIFIED:20240531T163431Z
UID:10000723-1720605600-1720609200@unitedforliteracy.info
SUMMARY:NSLD: In Person Story Time
DESCRIPTION:Age Group: Preschool\nChildren ages 3-5 enjoy stories\, music\, movement\, fingerplays\, and crafts with their caregivers. \nWhere: Fun Place at NSLD/Loves Park
URL:https://unitedforliteracy.info/event/nsld-in-person-story-time-2/2024-07-10/
LOCATION:North Suburban Library District\, 6340 N. 2nd St
END:VEVENT
BEGIN:VEVENT
DTSTART;TZID=America/Chicago:20240711T100000
DTEND;TZID=America/Chicago:20240711T110000
DTSTAMP:20260419T171054
CREATED:20240531T164256Z
LAST-MODIFIED:20240531T164324Z
UID:10000732-1720692000-1720695600@unitedforliteracy.info
SUMMARY:NSLD: In Person Story Time
DESCRIPTION:Program Type: Preschool\n\n\nAge Group: Children\, Preschool\n\nProgram Description\nEvent Details\n\nChildren ages 3-5 enjoy stories\, music\, movement\, fingerplays\, and crafts with their caregivers. \nWhere: \nLarge Meeting Room – R\n\nNSLD/Roscoe\n\n5562 Clayton Cir\nRoscoe\, IL 61073\n 
URL:https://unitedforliteracy.info/event/nsld-in-person-story-time-3/2024-07-11/
LOCATION:NSLD Roscoe\, 5562 Clayton Cir\, Roscoe\, IL\, 61073\, United States
END:VEVENT
BEGIN:VEVENT
DTSTART;TZID=America/Chicago:20240715T180000
DTEND;TZID=America/Chicago:20240715T190000
DTSTAMP:20260419T171054
CREATED:20240531T162848Z
LAST-MODIFIED:20240531T162848Z
UID:10000716-1721066400-1721070000@unitedforliteracy.info
SUMMARY:NSLD: In Person Story Time
DESCRIPTION:Age Group: Preschool\nChildren ages 3-5 enjoy stories\, music\, movement\, fingerplays\, and crafts with their caregivers. \nWhere: Fun Place at NSLD/Loves Park
URL:https://unitedforliteracy.info/event/nsld-in-person-story-time/2024-07-15/
LOCATION:North Suburban Library District\, 6340 N. 2nd St
END:VEVENT
BEGIN:VEVENT
DTSTART;TZID=America/Chicago:20240717T100000
DTEND;TZID=America/Chicago:20240717T110000
DTSTAMP:20260419T171054
CREATED:20240531T163357Z
LAST-MODIFIED:20240531T163431Z
UID:10000724-1721210400-1721214000@unitedforliteracy.info
SUMMARY:NSLD: In Person Story Time
DESCRIPTION:Age Group: Preschool\nChildren ages 3-5 enjoy stories\, music\, movement\, fingerplays\, and crafts with their caregivers. \nWhere: Fun Place at NSLD/Loves Park
URL:https://unitedforliteracy.info/event/nsld-in-person-story-time-2/2024-07-17/
LOCATION:North Suburban Library District\, 6340 N. 2nd St
END:VEVENT
BEGIN:VEVENT
DTSTART;TZID=America/Chicago:20240718T100000
DTEND;TZID=America/Chicago:20240718T110000
DTSTAMP:20260419T171054
CREATED:20240531T164256Z
LAST-MODIFIED:20240531T164324Z
UID:10000733-1721296800-1721300400@unitedforliteracy.info
SUMMARY:NSLD: In Person Story Time
DESCRIPTION:Program Type: Preschool\n\n\nAge Group: Children\, Preschool\n\nProgram Description\nEvent Details\n\nChildren ages 3-5 enjoy stories\, music\, movement\, fingerplays\, and crafts with their caregivers. \nWhere: \nLarge Meeting Room – R\n\nNSLD/Roscoe\n\n5562 Clayton Cir\nRoscoe\, IL 61073\n 
URL:https://unitedforliteracy.info/event/nsld-in-person-story-time-3/2024-07-18/
LOCATION:NSLD Roscoe\, 5562 Clayton Cir\, Roscoe\, IL\, 61073\, United States
END:VEVENT
BEGIN:VEVENT
DTSTART;TZID=America/Chicago:20240722T180000
DTEND;TZID=America/Chicago:20240722T190000
DTSTAMP:20260419T171054
CREATED:20240531T162848Z
LAST-MODIFIED:20240531T162848Z
UID:10000717-1721671200-1721674800@unitedforliteracy.info
SUMMARY:NSLD: In Person Story Time
DESCRIPTION:Age Group: Preschool\nChildren ages 3-5 enjoy stories\, music\, movement\, fingerplays\, and crafts with their caregivers. \nWhere: Fun Place at NSLD/Loves Park
URL:https://unitedforliteracy.info/event/nsld-in-person-story-time/2024-07-22/
LOCATION:North Suburban Library District\, 6340 N. 2nd St
END:VEVENT
BEGIN:VEVENT
DTSTART;TZID=America/Chicago:20240724T100000
DTEND;TZID=America/Chicago:20240724T110000
DTSTAMP:20260419T171054
CREATED:20240531T163357Z
LAST-MODIFIED:20240531T163431Z
UID:10000725-1721815200-1721818800@unitedforliteracy.info
SUMMARY:NSLD: In Person Story Time
DESCRIPTION:Age Group: Preschool\nChildren ages 3-5 enjoy stories\, music\, movement\, fingerplays\, and crafts with their caregivers. \nWhere: Fun Place at NSLD/Loves Park
URL:https://unitedforliteracy.info/event/nsld-in-person-story-time-2/2024-07-24/
LOCATION:North Suburban Library District\, 6340 N. 2nd St
END:VEVENT
BEGIN:VEVENT
DTSTART;TZID=America/Chicago:20240725T100000
DTEND;TZID=America/Chicago:20240725T110000
DTSTAMP:20260419T171054
CREATED:20240531T164256Z
LAST-MODIFIED:20240531T164324Z
UID:10000734-1721901600-1721905200@unitedforliteracy.info
SUMMARY:NSLD: In Person Story Time
DESCRIPTION:Program Type: Preschool\n\n\nAge Group: Children\, Preschool\n\nProgram Description\nEvent Details\n\nChildren ages 3-5 enjoy stories\, music\, movement\, fingerplays\, and crafts with their caregivers. \nWhere: \nLarge Meeting Room – R\n\nNSLD/Roscoe\n\n5562 Clayton Cir\nRoscoe\, IL 61073\n 
URL:https://unitedforliteracy.info/event/nsld-in-person-story-time-3/2024-07-25/
LOCATION:NSLD Roscoe\, 5562 Clayton Cir\, Roscoe\, IL\, 61073\, United States
END:VEVENT
END:VCALENDAR