BEGIN:VCALENDAR
VERSION:2.0
PRODID:-//United for Literacy - ECPv6.15.20//NONSGML v1.0//EN
CALSCALE:GREGORIAN
METHOD:PUBLISH
X-ORIGINAL-URL:https://unitedforliteracy.info
X-WR-CALDESC:Events for United for Literacy
REFRESH-INTERVAL;VALUE=DURATION:PT1H
X-Robots-Tag:noindex
X-PUBLISHED-TTL:PT1H
BEGIN:VTIMEZONE
TZID:America/Chicago
BEGIN:DAYLIGHT
TZOFFSETFROM:-0600
TZOFFSETTO:-0500
TZNAME:CDT
DTSTART:20220313T080000
END:DAYLIGHT
BEGIN:STANDARD
TZOFFSETFROM:-0500
TZOFFSETTO:-0600
TZNAME:CST
DTSTART:20221106T070000
END:STANDARD
BEGIN:DAYLIGHT
TZOFFSETFROM:-0600
TZOFFSETTO:-0500
TZNAME:CDT
DTSTART:20230312T080000
END:DAYLIGHT
BEGIN:STANDARD
TZOFFSETFROM:-0500
TZOFFSETTO:-0600
TZNAME:CST
DTSTART:20231105T070000
END:STANDARD
BEGIN:DAYLIGHT
TZOFFSETFROM:-0600
TZOFFSETTO:-0500
TZNAME:CDT
DTSTART:20240310T080000
END:DAYLIGHT
BEGIN:STANDARD
TZOFFSETFROM:-0500
TZOFFSETTO:-0600
TZNAME:CST
DTSTART:20241103T070000
END:STANDARD
END:VTIMEZONE
BEGIN:VEVENT
DTSTART;TZID=America/Chicago:20231202T101500
DTEND;TZID=America/Chicago:20231202T110000
DTSTAMP:20260422T105111
CREATED:20231106T172358Z
LAST-MODIFIED:20231106T172358Z
UID:10000022-1701512100-1701514800@unitedforliteracy.info
SUMMARY:Storytime with the Mobile Library at Happy Life Laundry
DESCRIPTION:The Mobile Library Crew will perform a storytime that will include singing and movement\, plus crafts for your whole family to enjoy together. \nAfter the storytime\, families can join us on the Rockford Public Library’s Mobile Library! You can sign up for a library card\, place and pick up holds\, find your next favorite book or movie\, and even check out a Chromebook or Hot Spot (call 815-966-2741 to check availability). \nWe will be visiting this stop every week starting September 30\, except for the following dates: \nNovember 25 \nDecember 23 & 30
URL:https://unitedforliteracy.info/event/storytime-with-the-mobile-library-at-happy-life-laundry/
LOCATION:Happy Life Coin Laundry of Rockford\, 7215 Cherryvale N. Blvd.\, Rockford\, Illinois
END:VEVENT
BEGIN:VEVENT
DTSTART;TZID=America/Chicago:20231209T101500
DTEND;TZID=America/Chicago:20231209T110000
DTSTAMP:20260422T105111
CREATED:20231106T173820Z
LAST-MODIFIED:20231106T173820Z
UID:10000026-1702116900-1702119600@unitedforliteracy.info
SUMMARY:Storytime with the Mobile Library at Happy Life Laundry
DESCRIPTION:The Mobile Library Crew will perform a storytime that will include singing and movement\, plus crafts for your whole family to enjoy together. \nAfter the storytime\, families can join us at the Rockford Public Library’s Mobile Library! You can sign up for a library card\, place and pick up holds\, find your next favorite book or movie\, and even check out a Chromebook or Hot Spot (call 815-966-2741 to check availability). \nWe will be visiting this stop every week starting September 30\, except for the following dates: \nNovember 25 \nDecember 23 & 30
URL:https://unitedforliteracy.info/event/storytime-with-the-mobile-library-at-happy-life-laundry-2/
LOCATION:Happy Life Coin Laundry of Rockford\, 7215 Cherryvale N. Blvd.\, Rockford\, Illinois
END:VEVENT
BEGIN:VEVENT
DTSTART;TZID=America/Chicago:20231213T161500
DTEND;TZID=America/Chicago:20231213T170000
DTSTAMP:20260422T105111
CREATED:20231106T191417Z
LAST-MODIFIED:20231106T191417Z
UID:10000029-1702484100-1702486800@unitedforliteracy.info
SUMMARY:Mobile Library-Family Fun at Five Alarm Coin Laundry
DESCRIPTION:The Mobile Library Crew will bring out games and crafts for your whole family to enjoy together. \nJoin us aboard the Rockford Public Library’s Mobile Library! You can sign up for a library card\, place and pick up holds\, find your next favorite book or movie\, and even check out a Chromebook or Hot Spot (call 815-966-2741 to check availability). \nWe will be visiting this stop every week!
URL:https://unitedforliteracy.info/event/mobile-library-family-fun-at-five-alarm-coin-laundry/
LOCATION:Five Alarm Coin Laundry\, 3939 W. Riverside Blvd.\, Rockford\, IL\, 61101\, United States
END:VEVENT
BEGIN:VEVENT
DTSTART;TZID=America/Chicago:20231214T090000
DTEND;TZID=America/Chicago:20231214T094500
DTSTAMP:20260422T105111
CREATED:20231106T191642Z
LAST-MODIFIED:20231106T191642Z
UID:10000030-1702544400-1702547100@unitedforliteracy.info
SUMMARY:Storytime with the Mobile Library at Brooke Road Church
DESCRIPTION:The Mobile Library Crew will perform a book that will include singing and movement\, plus crafts for your whole family to enjoy together. \nAfter the storytime\, families can join us on the Rockford Public Library’s Mobile Library! You can sign up for a library card\, place and pick up holds\, find your next favorite book or movie\, and even check out a Chromebook or Hot Spot (call 815-966-2741 to check availability). \nWe will be visiting this stop every three weeks!
URL:https://unitedforliteracy.info/event/storytime-with-the-mobile-library-at-brooke-road-church-2/
LOCATION:Brooke Road United Methodist Church\, 1404 Brooke Rd\, Rockford\, Ill\, 61109
END:VEVENT
BEGIN:VEVENT
DTSTART;TZID=America/Chicago:20231220T161500
DTEND;TZID=America/Chicago:20231220T170000
DTSTAMP:20260422T105111
CREATED:20231106T193927Z
LAST-MODIFIED:20231106T193927Z
UID:10000036-1703088900-1703091600@unitedforliteracy.info
SUMMARY:Mobile Library-Family Fun at Five Alarm Coin Laundry
DESCRIPTION:The Mobile Library Crew will bring out games and crafts for your whole family to enjoy together. \nJoin us aboard the Rockford Public Library’s Mobile Library! You can sign up for a library card\, place and pick up holds\, find your next favorite book or movie\, and even check out a Chromebook or Hot Spot (call 815-966-2741 to check availability). \nWe will be visiting this stop every week!
URL:https://unitedforliteracy.info/event/mobile-library-family-fun-at-five-alarm-coin-laundry-2/
LOCATION:Five Alarm Coin Laundry\, 3939 W. Riverside Blvd.\, Rockford\, IL\, 61101\, United States
END:VEVENT
BEGIN:VEVENT
DTSTART;TZID=America/Chicago:20231221T090000
DTEND;TZID=America/Chicago:20231221T094500
DTSTAMP:20260422T105111
CREATED:20231106T194103Z
LAST-MODIFIED:20231106T194103Z
UID:10000037-1703149200-1703151900@unitedforliteracy.info
SUMMARY:Storytime with the Mobile Library at Brooke Road Church
DESCRIPTION:The Mobile Library Crew will perform a book that will include singing and movement\, plus crafts for your whole family to enjoy together. \nAfter the storytime\, families can join us at the Rockford Public Library’s Mobile Library! You can sign up for a library card\, place and pick up holds\, find your next favorite book or movie\, and even check out a Chromebook or Hot Spot (call 815-966-2741 to check availability). \nWe will be visiting this stop every three weeks!
URL:https://unitedforliteracy.info/event/storytime-with-the-mobile-library-at-brooke-road-church-3/
LOCATION:Brooke Road United Methodist Church\, 1404 Brooke Rd\, Rockford\, Ill\, 61109
END:VEVENT
BEGIN:VEVENT
DTSTART;TZID=America/Chicago:20231227T161500
DTEND;TZID=America/Chicago:20231227T170000
DTSTAMP:20260422T105111
CREATED:20231106T202221Z
LAST-MODIFIED:20231106T202221Z
UID:10000038-1703693700-1703696400@unitedforliteracy.info
SUMMARY:Mobile Library-Family Fun at Five Alarm Coin Laundry
DESCRIPTION:The Mobile Library Crew will bring out games and crafts for your whole family to enjoy together. \nJoin us aboard the Rockford Public Library’s Mobile Library! You can sign up for a library card\, place and pick up holds\, find your next favorite book or movie\, and even check out a Chromebook or Hot Spot (call 815-966-2741 to check availability). \nWe will be visiting this stop every week!
URL:https://unitedforliteracy.info/event/mobile-library-family-fun-at-five-alarm-coin-laundry-3/
LOCATION:Five Alarm Coin Laundry\, 3939 W. Riverside Blvd.\, Rockford\, IL\, 61101\, United States
END:VEVENT
END:VCALENDAR