BEGIN:VCALENDAR
VERSION:2.0
PRODID:-//United for Literacy - ECPv6.15.20//NONSGML v1.0//EN
CALSCALE:GREGORIAN
METHOD:PUBLISH
X-WR-CALNAME:United for Literacy
X-ORIGINAL-URL:https://unitedforliteracy.info
X-WR-CALDESC:Events for United for Literacy
REFRESH-INTERVAL;VALUE=DURATION:PT1H
X-Robots-Tag:noindex
X-PUBLISHED-TTL:PT1H
BEGIN:VTIMEZONE
TZID:America/Chicago
BEGIN:DAYLIGHT
TZOFFSETFROM:-0600
TZOFFSETTO:-0500
TZNAME:CDT
DTSTART:20230312T080000
END:DAYLIGHT
BEGIN:STANDARD
TZOFFSETFROM:-0500
TZOFFSETTO:-0600
TZNAME:CST
DTSTART:20231105T070000
END:STANDARD
BEGIN:DAYLIGHT
TZOFFSETFROM:-0600
TZOFFSETTO:-0500
TZNAME:CDT
DTSTART:20240310T080000
END:DAYLIGHT
BEGIN:STANDARD
TZOFFSETFROM:-0500
TZOFFSETTO:-0600
TZNAME:CST
DTSTART:20241103T070000
END:STANDARD
BEGIN:DAYLIGHT
TZOFFSETFROM:-0600
TZOFFSETTO:-0500
TZNAME:CDT
DTSTART:20250309T080000
END:DAYLIGHT
BEGIN:STANDARD
TZOFFSETFROM:-0500
TZOFFSETTO:-0600
TZNAME:CST
DTSTART:20251102T070000
END:STANDARD
END:VTIMEZONE
BEGIN:VEVENT
DTSTART;TZID=America/Chicago:20240810T100000
DTEND;TZID=America/Chicago:20240810T140000
DTSTAMP:20260421T032545
CREATED:20240723T170733Z
LAST-MODIFIED:20240723T170733Z
UID:10000795-1723284000-1723298400@unitedforliteracy.info
SUMMARY:Ministry of Restoration Church Backpack Giveaway & Family Resource Fair/w Story Times
DESCRIPTION:The Ministry of Restoration Church is pleased to present its family resource fair and backpack giveaway. United Way of Rock River Valley will have storytimes at: \n10:30 AM English \n11:00 AM Spanish \n11:30 AM Swahili \nNoon English \n12:30 PM Spanish \n1:00 PM Swahili \n1:30 PM English
URL:https://unitedforliteracy.info/event/ministry-of-restoration-church-backpack-giveaway-family-resource-fair-w-story-times/
LOCATION:Black Hawk Park\, 101 15th Avenue\, Rockford\, IL\, 61104\, United States
END:VEVENT
END:VCALENDAR