BEGIN:VCALENDAR
VERSION:2.0
PRODID:-//United for Literacy - ECPv6.15.20//NONSGML v1.0//EN
CALSCALE:GREGORIAN
METHOD:PUBLISH
X-ORIGINAL-URL:https://unitedforliteracy.info
X-WR-CALDESC:Events for United for Literacy
REFRESH-INTERVAL;VALUE=DURATION:PT1H
X-Robots-Tag:noindex
X-PUBLISHED-TTL:PT1H
BEGIN:VTIMEZONE
TZID:America/Chicago
BEGIN:DAYLIGHT
TZOFFSETFROM:-0600
TZOFFSETTO:-0500
TZNAME:CDT
DTSTART:20230312T080000
END:DAYLIGHT
BEGIN:STANDARD
TZOFFSETFROM:-0500
TZOFFSETTO:-0600
TZNAME:CST
DTSTART:20231105T070000
END:STANDARD
BEGIN:DAYLIGHT
TZOFFSETFROM:-0600
TZOFFSETTO:-0500
TZNAME:CDT
DTSTART:20240310T080000
END:DAYLIGHT
BEGIN:STANDARD
TZOFFSETFROM:-0500
TZOFFSETTO:-0600
TZNAME:CST
DTSTART:20241103T070000
END:STANDARD
BEGIN:DAYLIGHT
TZOFFSETFROM:-0600
TZOFFSETTO:-0500
TZNAME:CDT
DTSTART:20250309T080000
END:DAYLIGHT
BEGIN:STANDARD
TZOFFSETFROM:-0500
TZOFFSETTO:-0600
TZNAME:CST
DTSTART:20251102T070000
END:STANDARD
END:VTIMEZONE
BEGIN:VEVENT
DTSTART;TZID=America/Chicago:20240718T110000
DTEND;TZID=America/Chicago:20240718T140000
DTSTAMP:20260419T235247
CREATED:20240711T141149Z
LAST-MODIFIED:20240711T141149Z
UID:10000774-1721300400-1721311200@unitedforliteracy.info
SUMMARY:United Way of Rock River Valley Hosts Beats and Bites Lunch Party\, July 18
DESCRIPTION:United Way of Rock River Valley will participate in Beats and Bites on Thursday\, July 18\, from 11:00 AM to 2:00 PM. You can find us at the corner of State Street and Church Street (Lot 5). Stop by our table to discover more about how we’re improving literacy in Winnebago County through the Dolly Parton Imagination Library. This program offers free books to all Winnebago County residents with children aged birth through 5 years old. \nWe will also have books available for your children to take home as they prepare to return to school. It’s an excellent opportunity to establish or reinforce the habit of reading for 20 minutes every day. \nSponsored by the River District Association in partnership with the Rockford Area Convention & Visitors Bureau\, Beats and Bites is a free 12-week lunch series. Each week features a different theme\, giveaways\, and great food\, vendors\, and music for the community to enjoy. \nEvent Features: \n\nWeekly Themes: Each week brings a unique theme to keep the excitement rolling\nGames: Fun and engaging games for all ages\nFood: Delicious lunch offerings from local vendors\nGiveaways: Exciting giveaways to add to the fun
URL:https://unitedforliteracy.info/event/united-way-of-rock-river-valley-hosts-beats-and-bites-lunch-party-july-18/
END:VEVENT
END:VCALENDAR