BEGIN:VCALENDAR
VERSION:2.0
PRODID:-//United for Literacy - ECPv6.15.20//NONSGML v1.0//EN
CALSCALE:GREGORIAN
METHOD:PUBLISH
X-ORIGINAL-URL:https://unitedforliteracy.info
X-WR-CALDESC:Events for United for Literacy
REFRESH-INTERVAL;VALUE=DURATION:PT1H
X-Robots-Tag:noindex
X-PUBLISHED-TTL:PT1H
BEGIN:VTIMEZONE
TZID:America/Chicago
BEGIN:DAYLIGHT
TZOFFSETFROM:-0600
TZOFFSETTO:-0500
TZNAME:CDT
DTSTART:20230312T080000
END:DAYLIGHT
BEGIN:STANDARD
TZOFFSETFROM:-0500
TZOFFSETTO:-0600
TZNAME:CST
DTSTART:20231105T070000
END:STANDARD
BEGIN:DAYLIGHT
TZOFFSETFROM:-0600
TZOFFSETTO:-0500
TZNAME:CDT
DTSTART:20240310T080000
END:DAYLIGHT
BEGIN:STANDARD
TZOFFSETFROM:-0500
TZOFFSETTO:-0600
TZNAME:CST
DTSTART:20241103T070000
END:STANDARD
BEGIN:DAYLIGHT
TZOFFSETFROM:-0600
TZOFFSETTO:-0500
TZNAME:CDT
DTSTART:20250309T080000
END:DAYLIGHT
BEGIN:STANDARD
TZOFFSETFROM:-0500
TZOFFSETTO:-0600
TZNAME:CST
DTSTART:20251102T070000
END:STANDARD
END:VTIMEZONE
BEGIN:VEVENT
DTSTART;TZID=America/Chicago:20241105T111500
DTEND;TZID=America/Chicago:20241105T120000
DTSTAMP:20260421T155958
CREATED:20240510T155003Z
LAST-MODIFIED:20240510T155003Z
UID:10000129-1730805300-1730808000@unitedforliteracy.info
SUMMARY:RPL's Tunes and Tales Storytime
DESCRIPTION:Join RPL for this active Storytime! \n\n\n\n\n\n\nThe Montague Crew will read stories\, sing songs\, and have your child up and dancing at this fun\, active story time. \nWhere: Montague branch\, Connie Lane Room
URL:https://unitedforliteracy.info/event/rpls-tunes-and-tales-storytime/2024-11-05/
LOCATION:RPL: Montague Branch\, 1238 South Winnebago Street\, Rockford\, IL\, 61102\, United States
END:VEVENT
BEGIN:VEVENT
DTSTART;TZID=America/Chicago:20241105T160000
DTEND;TZID=America/Chicago:20241105T170000
DTSTAMP:20260421T155958
CREATED:20241008T184819Z
LAST-MODIFIED:20241008T185248Z
UID:10000801-1730822400-1730826000@unitedforliteracy.info
SUMMARY:Alignment Rockford's Ready to Learn Space Story Time\, October 8 & 22
DESCRIPTION:Join Alignment Rockford for family story time and activities for children on Tuesday\, October 8\, from 4:00 pm-5:00 pm at the Irving Avenue Strong Neighborhood House\,\n312 Irving Avenue\, in Rockford. All children will receive a free book to take home!
URL:https://unitedforliteracy.info/event/alignment-rockfords-ready-to-learn-space-story-time-october-8/2024-11-05/
LOCATION:Irving Avenue Strong Neighborhood House\, 312 Irving Avenue\, Rockford\, United States
END:VEVENT
BEGIN:VEVENT
DTSTART;TZID=America/Chicago:20241107T101500
DTEND;TZID=America/Chicago:20241107T110000
DTSTAMP:20260421T155958
CREATED:20240510T184325Z
LAST-MODIFIED:20240510T184325Z
UID:10000391-1730974500-1730977200@unitedforliteracy.info
SUMMARY:RPL's Preschool Storytime (Ages 3 - 5)
DESCRIPTION:Meet new friends\, listen to stories\, and get moving in this fun\, interactive story time to strengthen social\, fine motor\, and early literacy skills. \n\n\n\n\n\n\nPlease always check the online calendar via RPL’s website\, as programs may be canceled without notice due to unplanned absence/illness or unavoidable schedule conflicts/changes. Songs\, rhymes\, and activities support this storytime. Shared books count toward 1\,000 Books Before Kindergarten\, 300 Books Before Third Grade\, and other RPL reading programs such as our Summer Reading Challenge. Meet in the Friends of RPL Community Room at East Branch.
URL:https://unitedforliteracy.info/event/rpls-preschool-storytime-ages-3-5/2024-11-07/
LOCATION:Rockford Public Library – East Branch\, 6685 East State Street\, Rockford\, IL\, IL\, 61108\, United States
END:VEVENT
BEGIN:VEVENT
DTSTART;TZID=America/Chicago:20241112T111500
DTEND;TZID=America/Chicago:20241112T120000
DTSTAMP:20260421T155958
CREATED:20240510T155003Z
LAST-MODIFIED:20240510T155003Z
UID:10000130-1731410100-1731412800@unitedforliteracy.info
SUMMARY:RPL's Tunes and Tales Storytime
DESCRIPTION:Join RPL for this active Storytime! \n\n\n\n\n\n\nThe Montague Crew will read stories\, sing songs\, and have your child up and dancing at this fun\, active story time. \nWhere: Montague branch\, Connie Lane Room
URL:https://unitedforliteracy.info/event/rpls-tunes-and-tales-storytime/2024-11-12/
LOCATION:RPL: Montague Branch\, 1238 South Winnebago Street\, Rockford\, IL\, 61102\, United States
END:VEVENT
BEGIN:VEVENT
DTSTART;TZID=America/Chicago:20241112T160000
DTEND;TZID=America/Chicago:20241112T170000
DTSTAMP:20260421T155958
CREATED:20241105T143742Z
LAST-MODIFIED:20250114T171125Z
UID:10000827-1731427200-1731430800@unitedforliteracy.info
SUMMARY:Alignment Rockford’s Ready to Learn Space Story Time (Ongoing)
DESCRIPTION:Join Alignment Rockford for family story-time and activities for children from 4:00 PM-5:00 PM at the Irving Avenue Strong Neighborhood House\,\n312 Irving Avenue\, in Rockford. All children will receive a free book to take home!
URL:https://unitedforliteracy.info/event/alignment-rockfords-ready-to-learn-space-story-time-november-12-26/2024-11-12/
END:VEVENT
BEGIN:VEVENT
DTSTART;TZID=America/Chicago:20241114T101500
DTEND;TZID=America/Chicago:20241114T110000
DTSTAMP:20260421T155958
CREATED:20240510T184325Z
LAST-MODIFIED:20240510T184325Z
UID:10000392-1731579300-1731582000@unitedforliteracy.info
SUMMARY:RPL's Preschool Storytime (Ages 3 - 5)
DESCRIPTION:Meet new friends\, listen to stories\, and get moving in this fun\, interactive story time to strengthen social\, fine motor\, and early literacy skills. \n\n\n\n\n\n\nPlease always check the online calendar via RPL’s website\, as programs may be canceled without notice due to unplanned absence/illness or unavoidable schedule conflicts/changes. Songs\, rhymes\, and activities support this storytime. Shared books count toward 1\,000 Books Before Kindergarten\, 300 Books Before Third Grade\, and other RPL reading programs such as our Summer Reading Challenge. Meet in the Friends of RPL Community Room at East Branch.
URL:https://unitedforliteracy.info/event/rpls-preschool-storytime-ages-3-5/2024-11-14/
LOCATION:Rockford Public Library – East Branch\, 6685 East State Street\, Rockford\, IL\, IL\, 61108\, United States
END:VEVENT
BEGIN:VEVENT
DTSTART;TZID=America/Chicago:20241119T111500
DTEND;TZID=America/Chicago:20241119T120000
DTSTAMP:20260421T155958
CREATED:20240510T155003Z
LAST-MODIFIED:20240510T155003Z
UID:10000131-1732014900-1732017600@unitedforliteracy.info
SUMMARY:RPL's Tunes and Tales Storytime
DESCRIPTION:Join RPL for this active Storytime! \n\n\n\n\n\n\nThe Montague Crew will read stories\, sing songs\, and have your child up and dancing at this fun\, active story time. \nWhere: Montague branch\, Connie Lane Room
URL:https://unitedforliteracy.info/event/rpls-tunes-and-tales-storytime/2024-11-19/
LOCATION:RPL: Montague Branch\, 1238 South Winnebago Street\, Rockford\, IL\, 61102\, United States
END:VEVENT
BEGIN:VEVENT
DTSTART;TZID=America/Chicago:20241119T160000
DTEND;TZID=America/Chicago:20241119T170000
DTSTAMP:20260421T155958
CREATED:20241008T184819Z
LAST-MODIFIED:20241008T185248Z
UID:10000802-1732032000-1732035600@unitedforliteracy.info
SUMMARY:Alignment Rockford's Ready to Learn Space Story Time\, October 8 & 22
DESCRIPTION:Join Alignment Rockford for family story time and activities for children on Tuesday\, October 8\, from 4:00 pm-5:00 pm at the Irving Avenue Strong Neighborhood House\,\n312 Irving Avenue\, in Rockford. All children will receive a free book to take home!
URL:https://unitedforliteracy.info/event/alignment-rockfords-ready-to-learn-space-story-time-october-8/2024-11-19/
LOCATION:Irving Avenue Strong Neighborhood House\, 312 Irving Avenue\, Rockford\, United States
END:VEVENT
BEGIN:VEVENT
DTSTART;TZID=America/Chicago:20241121T101500
DTEND;TZID=America/Chicago:20241121T110000
DTSTAMP:20260421T155958
CREATED:20240510T184325Z
LAST-MODIFIED:20240510T184325Z
UID:10000393-1732184100-1732186800@unitedforliteracy.info
SUMMARY:RPL's Preschool Storytime (Ages 3 - 5)
DESCRIPTION:Meet new friends\, listen to stories\, and get moving in this fun\, interactive story time to strengthen social\, fine motor\, and early literacy skills. \n\n\n\n\n\n\nPlease always check the online calendar via RPL’s website\, as programs may be canceled without notice due to unplanned absence/illness or unavoidable schedule conflicts/changes. Songs\, rhymes\, and activities support this storytime. Shared books count toward 1\,000 Books Before Kindergarten\, 300 Books Before Third Grade\, and other RPL reading programs such as our Summer Reading Challenge. Meet in the Friends of RPL Community Room at East Branch.
URL:https://unitedforliteracy.info/event/rpls-preschool-storytime-ages-3-5/2024-11-21/
LOCATION:Rockford Public Library – East Branch\, 6685 East State Street\, Rockford\, IL\, IL\, 61108\, United States
END:VEVENT
BEGIN:VEVENT
DTSTART;TZID=America/Chicago:20241126T111500
DTEND;TZID=America/Chicago:20241126T120000
DTSTAMP:20260421T155958
CREATED:20240510T155003Z
LAST-MODIFIED:20240510T155003Z
UID:10000132-1732619700-1732622400@unitedforliteracy.info
SUMMARY:RPL's Tunes and Tales Storytime
DESCRIPTION:Join RPL for this active Storytime! \n\n\n\n\n\n\nThe Montague Crew will read stories\, sing songs\, and have your child up and dancing at this fun\, active story time. \nWhere: Montague branch\, Connie Lane Room
URL:https://unitedforliteracy.info/event/rpls-tunes-and-tales-storytime/2024-11-26/
LOCATION:RPL: Montague Branch\, 1238 South Winnebago Street\, Rockford\, IL\, 61102\, United States
END:VEVENT
BEGIN:VEVENT
DTSTART;TZID=America/Chicago:20241126T160000
DTEND;TZID=America/Chicago:20241126T170000
DTSTAMP:20260421T155958
CREATED:20241105T143742Z
LAST-MODIFIED:20250114T171125Z
UID:10000828-1732636800-1732640400@unitedforliteracy.info
SUMMARY:Alignment Rockford’s Ready to Learn Space Story Time (Ongoing)
DESCRIPTION:Join Alignment Rockford for family story-time and activities for children from 4:00 PM-5:00 PM at the Irving Avenue Strong Neighborhood House\,\n312 Irving Avenue\, in Rockford. All children will receive a free book to take home!
URL:https://unitedforliteracy.info/event/alignment-rockfords-ready-to-learn-space-story-time-november-12-26/2024-11-26/
END:VEVENT
BEGIN:VEVENT
DTSTART;TZID=America/Chicago:20241128T101500
DTEND;TZID=America/Chicago:20241128T110000
DTSTAMP:20260421T155958
CREATED:20240510T184325Z
LAST-MODIFIED:20240510T184325Z
UID:10000394-1732788900-1732791600@unitedforliteracy.info
SUMMARY:RPL's Preschool Storytime (Ages 3 - 5)
DESCRIPTION:Meet new friends\, listen to stories\, and get moving in this fun\, interactive story time to strengthen social\, fine motor\, and early literacy skills. \n\n\n\n\n\n\nPlease always check the online calendar via RPL’s website\, as programs may be canceled without notice due to unplanned absence/illness or unavoidable schedule conflicts/changes. Songs\, rhymes\, and activities support this storytime. Shared books count toward 1\,000 Books Before Kindergarten\, 300 Books Before Third Grade\, and other RPL reading programs such as our Summer Reading Challenge. Meet in the Friends of RPL Community Room at East Branch.
URL:https://unitedforliteracy.info/event/rpls-preschool-storytime-ages-3-5/2024-11-28/
LOCATION:Rockford Public Library – East Branch\, 6685 East State Street\, Rockford\, IL\, IL\, 61108\, United States
END:VEVENT
END:VCALENDAR