BEGIN:VCALENDAR
VERSION:2.0
PRODID:-//United for Literacy - ECPv6.15.20//NONSGML v1.0//EN
CALSCALE:GREGORIAN
METHOD:PUBLISH
X-ORIGINAL-URL:https://unitedforliteracy.info
X-WR-CALDESC:Events for United for Literacy
REFRESH-INTERVAL;VALUE=DURATION:PT1H
X-Robots-Tag:noindex
X-PUBLISHED-TTL:PT1H
BEGIN:VTIMEZONE
TZID:America/Chicago
BEGIN:DAYLIGHT
TZOFFSETFROM:-0600
TZOFFSETTO:-0500
TZNAME:CDT
DTSTART:20230312T080000
END:DAYLIGHT
BEGIN:STANDARD
TZOFFSETFROM:-0500
TZOFFSETTO:-0600
TZNAME:CST
DTSTART:20231105T070000
END:STANDARD
BEGIN:DAYLIGHT
TZOFFSETFROM:-0600
TZOFFSETTO:-0500
TZNAME:CDT
DTSTART:20240310T080000
END:DAYLIGHT
BEGIN:STANDARD
TZOFFSETFROM:-0500
TZOFFSETTO:-0600
TZNAME:CST
DTSTART:20241103T070000
END:STANDARD
BEGIN:DAYLIGHT
TZOFFSETFROM:-0600
TZOFFSETTO:-0500
TZNAME:CDT
DTSTART:20250309T080000
END:DAYLIGHT
BEGIN:STANDARD
TZOFFSETFROM:-0500
TZOFFSETTO:-0600
TZNAME:CST
DTSTART:20251102T070000
END:STANDARD
END:VTIMEZONE
BEGIN:VEVENT
DTSTART;TZID=America/Chicago:20241001T111500
DTEND;TZID=America/Chicago:20241001T120000
DTSTAMP:20260421T172525
CREATED:20240510T155003Z
LAST-MODIFIED:20240510T155003Z
UID:10000124-1727781300-1727784000@unitedforliteracy.info
SUMMARY:RPL's Tunes and Tales Storytime
DESCRIPTION:Join RPL for this active Storytime! \n\n\n\n\n\n\nThe Montague Crew will read stories\, sing songs\, and have your child up and dancing at this fun\, active story time. \nWhere: Montague branch\, Connie Lane Room
URL:https://unitedforliteracy.info/event/rpls-tunes-and-tales-storytime/2024-10-01/
LOCATION:RPL: Montague Branch\, 1238 South Winnebago Street\, Rockford\, IL\, 61102\, United States
END:VEVENT
BEGIN:VEVENT
DTSTART;TZID=America/Chicago:20241003T090000
DTEND;TZID=America/Chicago:20241003T100000
DTSTAMP:20260421T172525
CREATED:20240531T152756Z
LAST-MODIFIED:20240531T152756Z
UID:10000664-1727946000-1727949600@unitedforliteracy.info
SUMMARY:Anderson Japanese Gardens: Garden Explorers
DESCRIPTION:Garden Explorers is a ten-week interactive parent/child activity.  Each week features a story time led by a community leader\, followed by an activity\, craft\, or children’s music. Garden Explorers is appropriate for four to six-year-olds\, but children of all ages are welcome. \n\n\n\n\n\n\n\n\nEvery Thursday Morning\nJune 13 – August 15 | 9:00 – 10:00 AM \n(No program on the 4th of July)  \nFREE for all Participants\nParents & Grandparents Encouraged \nChildren must be accompanied by an adult guardian at all times \n  \nGarden Explorers Takes Place in the Pavilion\nEnter the Garden via Admissions inside the Visitor Center \nWeekly Speakers \nGarden Explorers – Anderson Japanese Gardens (andersongardens.org)
URL:https://unitedforliteracy.info/event/anderson-japanese-gardens-garden-explorers/2024-10-03/
LOCATION:Anderson Japanese Gardens\, 318 Spring Creek Road\, Rockford
END:VEVENT
BEGIN:VEVENT
DTSTART;TZID=America/Chicago:20241003T101500
DTEND;TZID=America/Chicago:20241003T110000
DTSTAMP:20260421T172525
CREATED:20240510T184325Z
LAST-MODIFIED:20240510T184325Z
UID:10000386-1727950500-1727953200@unitedforliteracy.info
SUMMARY:RPL's Preschool Storytime (Ages 3 - 5)
DESCRIPTION:Meet new friends\, listen to stories\, and get moving in this fun\, interactive story time to strengthen social\, fine motor\, and early literacy skills. \n\n\n\n\n\n\nPlease always check the online calendar via RPL’s website\, as programs may be canceled without notice due to unplanned absence/illness or unavoidable schedule conflicts/changes. Songs\, rhymes\, and activities support this storytime. Shared books count toward 1\,000 Books Before Kindergarten\, 300 Books Before Third Grade\, and other RPL reading programs such as our Summer Reading Challenge. Meet in the Friends of RPL Community Room at East Branch.
URL:https://unitedforliteracy.info/event/rpls-preschool-storytime-ages-3-5/2024-10-03/
LOCATION:Rockford Public Library – East Branch\, 6685 East State Street\, Rockford\, IL\, IL\, 61108\, United States
END:VEVENT
BEGIN:VEVENT
DTSTART;TZID=America/Chicago:20241008T111500
DTEND;TZID=America/Chicago:20241008T120000
DTSTAMP:20260421T172525
CREATED:20240510T155003Z
LAST-MODIFIED:20240510T155003Z
UID:10000125-1728386100-1728388800@unitedforliteracy.info
SUMMARY:RPL's Tunes and Tales Storytime
DESCRIPTION:Join RPL for this active Storytime! \n\n\n\n\n\n\nThe Montague Crew will read stories\, sing songs\, and have your child up and dancing at this fun\, active story time. \nWhere: Montague branch\, Connie Lane Room
URL:https://unitedforliteracy.info/event/rpls-tunes-and-tales-storytime/2024-10-08/
LOCATION:RPL: Montague Branch\, 1238 South Winnebago Street\, Rockford\, IL\, 61102\, United States
END:VEVENT
BEGIN:VEVENT
DTSTART;TZID=America/Chicago:20241008T160000
DTEND;TZID=America/Chicago:20241008T170000
DTSTAMP:20260421T172525
CREATED:20241008T184819Z
LAST-MODIFIED:20241008T185248Z
UID:10000799-1728403200-1728406800@unitedforliteracy.info
SUMMARY:Alignment Rockford's Ready to Learn Space Story Time\, October 8 & 22
DESCRIPTION:Join Alignment Rockford for family story time and activities for children on Tuesday\, October 8\, from 4:00 pm-5:00 pm at the Irving Avenue Strong Neighborhood House\,\n312 Irving Avenue\, in Rockford. All children will receive a free book to take home!
URL:https://unitedforliteracy.info/event/alignment-rockfords-ready-to-learn-space-story-time-october-8/2024-10-08/
LOCATION:Irving Avenue Strong Neighborhood House\, 312 Irving Avenue\, Rockford\, United States
END:VEVENT
BEGIN:VEVENT
DTSTART;TZID=America/Chicago:20241010T090000
DTEND;TZID=America/Chicago:20241010T100000
DTSTAMP:20260421T172525
CREATED:20240531T152756Z
LAST-MODIFIED:20240531T152756Z
UID:10000665-1728550800-1728554400@unitedforliteracy.info
SUMMARY:Anderson Japanese Gardens: Garden Explorers
DESCRIPTION:Garden Explorers is a ten-week interactive parent/child activity.  Each week features a story time led by a community leader\, followed by an activity\, craft\, or children’s music. Garden Explorers is appropriate for four to six-year-olds\, but children of all ages are welcome. \n\n\n\n\n\n\n\n\nEvery Thursday Morning\nJune 13 – August 15 | 9:00 – 10:00 AM \n(No program on the 4th of July)  \nFREE for all Participants\nParents & Grandparents Encouraged \nChildren must be accompanied by an adult guardian at all times \n  \nGarden Explorers Takes Place in the Pavilion\nEnter the Garden via Admissions inside the Visitor Center \nWeekly Speakers \nGarden Explorers – Anderson Japanese Gardens (andersongardens.org)
URL:https://unitedforliteracy.info/event/anderson-japanese-gardens-garden-explorers/2024-10-10/
LOCATION:Anderson Japanese Gardens\, 318 Spring Creek Road\, Rockford
END:VEVENT
BEGIN:VEVENT
DTSTART;TZID=America/Chicago:20241010T101500
DTEND;TZID=America/Chicago:20241010T110000
DTSTAMP:20260421T172525
CREATED:20240510T184325Z
LAST-MODIFIED:20240510T184325Z
UID:10000387-1728555300-1728558000@unitedforliteracy.info
SUMMARY:RPL's Preschool Storytime (Ages 3 - 5)
DESCRIPTION:Meet new friends\, listen to stories\, and get moving in this fun\, interactive story time to strengthen social\, fine motor\, and early literacy skills. \n\n\n\n\n\n\nPlease always check the online calendar via RPL’s website\, as programs may be canceled without notice due to unplanned absence/illness or unavoidable schedule conflicts/changes. Songs\, rhymes\, and activities support this storytime. Shared books count toward 1\,000 Books Before Kindergarten\, 300 Books Before Third Grade\, and other RPL reading programs such as our Summer Reading Challenge. Meet in the Friends of RPL Community Room at East Branch.
URL:https://unitedforliteracy.info/event/rpls-preschool-storytime-ages-3-5/2024-10-10/
LOCATION:Rockford Public Library – East Branch\, 6685 East State Street\, Rockford\, IL\, IL\, 61108\, United States
END:VEVENT
BEGIN:VEVENT
DTSTART;TZID=America/Chicago:20241015T111500
DTEND;TZID=America/Chicago:20241015T120000
DTSTAMP:20260421T172525
CREATED:20240510T155003Z
LAST-MODIFIED:20240510T155003Z
UID:10000126-1728990900-1728993600@unitedforliteracy.info
SUMMARY:RPL's Tunes and Tales Storytime
DESCRIPTION:Join RPL for this active Storytime! \n\n\n\n\n\n\nThe Montague Crew will read stories\, sing songs\, and have your child up and dancing at this fun\, active story time. \nWhere: Montague branch\, Connie Lane Room
URL:https://unitedforliteracy.info/event/rpls-tunes-and-tales-storytime/2024-10-15/
LOCATION:RPL: Montague Branch\, 1238 South Winnebago Street\, Rockford\, IL\, 61102\, United States
END:VEVENT
BEGIN:VEVENT
DTSTART;TZID=America/Chicago:20241017T090000
DTEND;TZID=America/Chicago:20241017T100000
DTSTAMP:20260421T172525
CREATED:20240531T152756Z
LAST-MODIFIED:20240531T152756Z
UID:10000666-1729155600-1729159200@unitedforliteracy.info
SUMMARY:Anderson Japanese Gardens: Garden Explorers
DESCRIPTION:Garden Explorers is a ten-week interactive parent/child activity.  Each week features a story time led by a community leader\, followed by an activity\, craft\, or children’s music. Garden Explorers is appropriate for four to six-year-olds\, but children of all ages are welcome. \n\n\n\n\n\n\n\n\nEvery Thursday Morning\nJune 13 – August 15 | 9:00 – 10:00 AM \n(No program on the 4th of July)  \nFREE for all Participants\nParents & Grandparents Encouraged \nChildren must be accompanied by an adult guardian at all times \n  \nGarden Explorers Takes Place in the Pavilion\nEnter the Garden via Admissions inside the Visitor Center \nWeekly Speakers \nGarden Explorers – Anderson Japanese Gardens (andersongardens.org)
URL:https://unitedforliteracy.info/event/anderson-japanese-gardens-garden-explorers/2024-10-17/
LOCATION:Anderson Japanese Gardens\, 318 Spring Creek Road\, Rockford
END:VEVENT
BEGIN:VEVENT
DTSTART;TZID=America/Chicago:20241017T101500
DTEND;TZID=America/Chicago:20241017T110000
DTSTAMP:20260421T172525
CREATED:20240510T184325Z
LAST-MODIFIED:20240510T184325Z
UID:10000388-1729160100-1729162800@unitedforliteracy.info
SUMMARY:RPL's Preschool Storytime (Ages 3 - 5)
DESCRIPTION:Meet new friends\, listen to stories\, and get moving in this fun\, interactive story time to strengthen social\, fine motor\, and early literacy skills. \n\n\n\n\n\n\nPlease always check the online calendar via RPL’s website\, as programs may be canceled without notice due to unplanned absence/illness or unavoidable schedule conflicts/changes. Songs\, rhymes\, and activities support this storytime. Shared books count toward 1\,000 Books Before Kindergarten\, 300 Books Before Third Grade\, and other RPL reading programs such as our Summer Reading Challenge. Meet in the Friends of RPL Community Room at East Branch.
URL:https://unitedforliteracy.info/event/rpls-preschool-storytime-ages-3-5/2024-10-17/
LOCATION:Rockford Public Library – East Branch\, 6685 East State Street\, Rockford\, IL\, IL\, 61108\, United States
END:VEVENT
BEGIN:VEVENT
DTSTART;TZID=America/Chicago:20241022T111500
DTEND;TZID=America/Chicago:20241022T120000
DTSTAMP:20260421T172526
CREATED:20240510T155003Z
LAST-MODIFIED:20240510T155003Z
UID:10000127-1729595700-1729598400@unitedforliteracy.info
SUMMARY:RPL's Tunes and Tales Storytime
DESCRIPTION:Join RPL for this active Storytime! \n\n\n\n\n\n\nThe Montague Crew will read stories\, sing songs\, and have your child up and dancing at this fun\, active story time. \nWhere: Montague branch\, Connie Lane Room
URL:https://unitedforliteracy.info/event/rpls-tunes-and-tales-storytime/2024-10-22/
LOCATION:RPL: Montague Branch\, 1238 South Winnebago Street\, Rockford\, IL\, 61102\, United States
END:VEVENT
BEGIN:VEVENT
DTSTART;TZID=America/Chicago:20241022T160000
DTEND;TZID=America/Chicago:20241022T170000
DTSTAMP:20260421T172526
CREATED:20241008T184819Z
LAST-MODIFIED:20241008T185248Z
UID:10000800-1729612800-1729616400@unitedforliteracy.info
SUMMARY:Alignment Rockford's Ready to Learn Space Story Time\, October 8 & 22
DESCRIPTION:Join Alignment Rockford for family story time and activities for children on Tuesday\, October 8\, from 4:00 pm-5:00 pm at the Irving Avenue Strong Neighborhood House\,\n312 Irving Avenue\, in Rockford. All children will receive a free book to take home!
URL:https://unitedforliteracy.info/event/alignment-rockfords-ready-to-learn-space-story-time-october-8/2024-10-22/
LOCATION:Irving Avenue Strong Neighborhood House\, 312 Irving Avenue\, Rockford\, United States
END:VEVENT
BEGIN:VEVENT
DTSTART;TZID=America/Chicago:20241024T090000
DTEND;TZID=America/Chicago:20241024T100000
DTSTAMP:20260421T172526
CREATED:20240531T152756Z
LAST-MODIFIED:20240531T152756Z
UID:10000667-1729760400-1729764000@unitedforliteracy.info
SUMMARY:Anderson Japanese Gardens: Garden Explorers
DESCRIPTION:Garden Explorers is a ten-week interactive parent/child activity.  Each week features a story time led by a community leader\, followed by an activity\, craft\, or children’s music. Garden Explorers is appropriate for four to six-year-olds\, but children of all ages are welcome. \n\n\n\n\n\n\n\n\nEvery Thursday Morning\nJune 13 – August 15 | 9:00 – 10:00 AM \n(No program on the 4th of July)  \nFREE for all Participants\nParents & Grandparents Encouraged \nChildren must be accompanied by an adult guardian at all times \n  \nGarden Explorers Takes Place in the Pavilion\nEnter the Garden via Admissions inside the Visitor Center \nWeekly Speakers \nGarden Explorers – Anderson Japanese Gardens (andersongardens.org)
URL:https://unitedforliteracy.info/event/anderson-japanese-gardens-garden-explorers/2024-10-24/
LOCATION:Anderson Japanese Gardens\, 318 Spring Creek Road\, Rockford
END:VEVENT
BEGIN:VEVENT
DTSTART;TZID=America/Chicago:20241024T101500
DTEND;TZID=America/Chicago:20241024T110000
DTSTAMP:20260421T172526
CREATED:20240510T184325Z
LAST-MODIFIED:20240510T184325Z
UID:10000389-1729764900-1729767600@unitedforliteracy.info
SUMMARY:RPL's Preschool Storytime (Ages 3 - 5)
DESCRIPTION:Meet new friends\, listen to stories\, and get moving in this fun\, interactive story time to strengthen social\, fine motor\, and early literacy skills. \n\n\n\n\n\n\nPlease always check the online calendar via RPL’s website\, as programs may be canceled without notice due to unplanned absence/illness or unavoidable schedule conflicts/changes. Songs\, rhymes\, and activities support this storytime. Shared books count toward 1\,000 Books Before Kindergarten\, 300 Books Before Third Grade\, and other RPL reading programs such as our Summer Reading Challenge. Meet in the Friends of RPL Community Room at East Branch.
URL:https://unitedforliteracy.info/event/rpls-preschool-storytime-ages-3-5/2024-10-24/
LOCATION:Rockford Public Library – East Branch\, 6685 East State Street\, Rockford\, IL\, IL\, 61108\, United States
END:VEVENT
BEGIN:VEVENT
DTSTART;TZID=America/Chicago:20241029T111500
DTEND;TZID=America/Chicago:20241029T120000
DTSTAMP:20260421T172526
CREATED:20240510T155003Z
LAST-MODIFIED:20240510T155003Z
UID:10000128-1730200500-1730203200@unitedforliteracy.info
SUMMARY:RPL's Tunes and Tales Storytime
DESCRIPTION:Join RPL for this active Storytime! \n\n\n\n\n\n\nThe Montague Crew will read stories\, sing songs\, and have your child up and dancing at this fun\, active story time. \nWhere: Montague branch\, Connie Lane Room
URL:https://unitedforliteracy.info/event/rpls-tunes-and-tales-storytime/2024-10-29/
LOCATION:RPL: Montague Branch\, 1238 South Winnebago Street\, Rockford\, IL\, 61102\, United States
END:VEVENT
BEGIN:VEVENT
DTSTART;TZID=America/Chicago:20241031T090000
DTEND;TZID=America/Chicago:20241031T100000
DTSTAMP:20260421T172526
CREATED:20240531T152756Z
LAST-MODIFIED:20240531T152756Z
UID:10000668-1730365200-1730368800@unitedforliteracy.info
SUMMARY:Anderson Japanese Gardens: Garden Explorers
DESCRIPTION:Garden Explorers is a ten-week interactive parent/child activity.  Each week features a story time led by a community leader\, followed by an activity\, craft\, or children’s music. Garden Explorers is appropriate for four to six-year-olds\, but children of all ages are welcome. \n\n\n\n\n\n\n\n\nEvery Thursday Morning\nJune 13 – August 15 | 9:00 – 10:00 AM \n(No program on the 4th of July)  \nFREE for all Participants\nParents & Grandparents Encouraged \nChildren must be accompanied by an adult guardian at all times \n  \nGarden Explorers Takes Place in the Pavilion\nEnter the Garden via Admissions inside the Visitor Center \nWeekly Speakers \nGarden Explorers – Anderson Japanese Gardens (andersongardens.org)
URL:https://unitedforliteracy.info/event/anderson-japanese-gardens-garden-explorers/2024-10-31/
LOCATION:Anderson Japanese Gardens\, 318 Spring Creek Road\, Rockford
END:VEVENT
BEGIN:VEVENT
DTSTART;TZID=America/Chicago:20241031T101500
DTEND;TZID=America/Chicago:20241031T110000
DTSTAMP:20260421T172526
CREATED:20240510T184325Z
LAST-MODIFIED:20240510T184325Z
UID:10000390-1730369700-1730372400@unitedforliteracy.info
SUMMARY:RPL's Preschool Storytime (Ages 3 - 5)
DESCRIPTION:Meet new friends\, listen to stories\, and get moving in this fun\, interactive story time to strengthen social\, fine motor\, and early literacy skills. \n\n\n\n\n\n\nPlease always check the online calendar via RPL’s website\, as programs may be canceled without notice due to unplanned absence/illness or unavoidable schedule conflicts/changes. Songs\, rhymes\, and activities support this storytime. Shared books count toward 1\,000 Books Before Kindergarten\, 300 Books Before Third Grade\, and other RPL reading programs such as our Summer Reading Challenge. Meet in the Friends of RPL Community Room at East Branch.
URL:https://unitedforliteracy.info/event/rpls-preschool-storytime-ages-3-5/2024-10-31/
LOCATION:Rockford Public Library – East Branch\, 6685 East State Street\, Rockford\, IL\, IL\, 61108\, United States
END:VEVENT
END:VCALENDAR