BEGIN:VCALENDAR
VERSION:2.0
PRODID:-//United for Literacy - ECPv6.15.20//NONSGML v1.0//EN
CALSCALE:GREGORIAN
METHOD:PUBLISH
X-ORIGINAL-URL:https://unitedforliteracy.info
X-WR-CALDESC:Events for United for Literacy
REFRESH-INTERVAL;VALUE=DURATION:PT1H
X-Robots-Tag:noindex
X-PUBLISHED-TTL:PT1H
BEGIN:VTIMEZONE
TZID:America/Chicago
BEGIN:DAYLIGHT
TZOFFSETFROM:-0600
TZOFFSETTO:-0500
TZNAME:CDT
DTSTART:20230312T080000
END:DAYLIGHT
BEGIN:STANDARD
TZOFFSETFROM:-0500
TZOFFSETTO:-0600
TZNAME:CST
DTSTART:20231105T070000
END:STANDARD
BEGIN:DAYLIGHT
TZOFFSETFROM:-0600
TZOFFSETTO:-0500
TZNAME:CDT
DTSTART:20240310T080000
END:DAYLIGHT
BEGIN:STANDARD
TZOFFSETFROM:-0500
TZOFFSETTO:-0600
TZNAME:CST
DTSTART:20241103T070000
END:STANDARD
BEGIN:DAYLIGHT
TZOFFSETFROM:-0600
TZOFFSETTO:-0500
TZNAME:CDT
DTSTART:20250309T080000
END:DAYLIGHT
BEGIN:STANDARD
TZOFFSETFROM:-0500
TZOFFSETTO:-0600
TZNAME:CST
DTSTART:20251102T070000
END:STANDARD
END:VTIMEZONE
BEGIN:VEVENT
DTSTART;TZID=America/Chicago:20240903T111500
DTEND;TZID=America/Chicago:20240903T120000
DTSTAMP:20260421T190047
CREATED:20240510T155003Z
LAST-MODIFIED:20240510T155003Z
UID:10000120-1725362100-1725364800@unitedforliteracy.info
SUMMARY:RPL's Tunes and Tales Storytime
DESCRIPTION:Join RPL for this active Storytime! \n\n\n\n\n\n\nThe Montague Crew will read stories\, sing songs\, and have your child up and dancing at this fun\, active story time. \nWhere: Montague branch\, Connie Lane Room
URL:https://unitedforliteracy.info/event/rpls-tunes-and-tales-storytime/2024-09-03/
LOCATION:RPL: Montague Branch\, 1238 South Winnebago Street\, Rockford\, IL\, 61102\, United States
END:VEVENT
BEGIN:VEVENT
DTSTART;TZID=America/Chicago:20240905T090000
DTEND;TZID=America/Chicago:20240905T100000
DTSTAMP:20260421T190047
CREATED:20240531T152756Z
LAST-MODIFIED:20240531T152756Z
UID:10000660-1725526800-1725530400@unitedforliteracy.info
SUMMARY:Anderson Japanese Gardens: Garden Explorers
DESCRIPTION:Garden Explorers is a ten-week interactive parent/child activity.  Each week features a story time led by a community leader\, followed by an activity\, craft\, or children’s music. Garden Explorers is appropriate for four to six-year-olds\, but children of all ages are welcome. \n\n\n\n\n\n\n\n\nEvery Thursday Morning\nJune 13 – August 15 | 9:00 – 10:00 AM \n(No program on the 4th of July)  \nFREE for all Participants\nParents & Grandparents Encouraged \nChildren must be accompanied by an adult guardian at all times \n  \nGarden Explorers Takes Place in the Pavilion\nEnter the Garden via Admissions inside the Visitor Center \nWeekly Speakers \nGarden Explorers – Anderson Japanese Gardens (andersongardens.org)
URL:https://unitedforliteracy.info/event/anderson-japanese-gardens-garden-explorers/2024-09-05/
LOCATION:Anderson Japanese Gardens\, 318 Spring Creek Road\, Rockford
END:VEVENT
BEGIN:VEVENT
DTSTART;TZID=America/Chicago:20240905T101500
DTEND;TZID=America/Chicago:20240905T110000
DTSTAMP:20260421T190047
CREATED:20240510T184325Z
LAST-MODIFIED:20240510T184325Z
UID:10000382-1725531300-1725534000@unitedforliteracy.info
SUMMARY:RPL's Preschool Storytime (Ages 3 - 5)
DESCRIPTION:Meet new friends\, listen to stories\, and get moving in this fun\, interactive story time to strengthen social\, fine motor\, and early literacy skills. \n\n\n\n\n\n\nPlease always check the online calendar via RPL’s website\, as programs may be canceled without notice due to unplanned absence/illness or unavoidable schedule conflicts/changes. Songs\, rhymes\, and activities support this storytime. Shared books count toward 1\,000 Books Before Kindergarten\, 300 Books Before Third Grade\, and other RPL reading programs such as our Summer Reading Challenge. Meet in the Friends of RPL Community Room at East Branch.
URL:https://unitedforliteracy.info/event/rpls-preschool-storytime-ages-3-5/2024-09-05/
LOCATION:Rockford Public Library – East Branch\, 6685 East State Street\, Rockford\, IL\, IL\, 61108\, United States
END:VEVENT
BEGIN:VEVENT
DTSTART;TZID=America/Chicago:20240910T111500
DTEND;TZID=America/Chicago:20240910T120000
DTSTAMP:20260421T190047
CREATED:20240510T155003Z
LAST-MODIFIED:20240510T155003Z
UID:10000121-1725966900-1725969600@unitedforliteracy.info
SUMMARY:RPL's Tunes and Tales Storytime
DESCRIPTION:Join RPL for this active Storytime! \n\n\n\n\n\n\nThe Montague Crew will read stories\, sing songs\, and have your child up and dancing at this fun\, active story time. \nWhere: Montague branch\, Connie Lane Room
URL:https://unitedforliteracy.info/event/rpls-tunes-and-tales-storytime/2024-09-10/
LOCATION:RPL: Montague Branch\, 1238 South Winnebago Street\, Rockford\, IL\, 61102\, United States
END:VEVENT
BEGIN:VEVENT
DTSTART;TZID=America/Chicago:20240912T090000
DTEND;TZID=America/Chicago:20240912T100000
DTSTAMP:20260421T190047
CREATED:20240531T152756Z
LAST-MODIFIED:20240531T152756Z
UID:10000661-1726131600-1726135200@unitedforliteracy.info
SUMMARY:Anderson Japanese Gardens: Garden Explorers
DESCRIPTION:Garden Explorers is a ten-week interactive parent/child activity.  Each week features a story time led by a community leader\, followed by an activity\, craft\, or children’s music. Garden Explorers is appropriate for four to six-year-olds\, but children of all ages are welcome. \n\n\n\n\n\n\n\n\nEvery Thursday Morning\nJune 13 – August 15 | 9:00 – 10:00 AM \n(No program on the 4th of July)  \nFREE for all Participants\nParents & Grandparents Encouraged \nChildren must be accompanied by an adult guardian at all times \n  \nGarden Explorers Takes Place in the Pavilion\nEnter the Garden via Admissions inside the Visitor Center \nWeekly Speakers \nGarden Explorers – Anderson Japanese Gardens (andersongardens.org)
URL:https://unitedforliteracy.info/event/anderson-japanese-gardens-garden-explorers/2024-09-12/
LOCATION:Anderson Japanese Gardens\, 318 Spring Creek Road\, Rockford
END:VEVENT
BEGIN:VEVENT
DTSTART;TZID=America/Chicago:20240912T101500
DTEND;TZID=America/Chicago:20240912T110000
DTSTAMP:20260421T190047
CREATED:20240510T184325Z
LAST-MODIFIED:20240510T184325Z
UID:10000383-1726136100-1726138800@unitedforliteracy.info
SUMMARY:RPL's Preschool Storytime (Ages 3 - 5)
DESCRIPTION:Meet new friends\, listen to stories\, and get moving in this fun\, interactive story time to strengthen social\, fine motor\, and early literacy skills. \n\n\n\n\n\n\nPlease always check the online calendar via RPL’s website\, as programs may be canceled without notice due to unplanned absence/illness or unavoidable schedule conflicts/changes. Songs\, rhymes\, and activities support this storytime. Shared books count toward 1\,000 Books Before Kindergarten\, 300 Books Before Third Grade\, and other RPL reading programs such as our Summer Reading Challenge. Meet in the Friends of RPL Community Room at East Branch.
URL:https://unitedforliteracy.info/event/rpls-preschool-storytime-ages-3-5/2024-09-12/
LOCATION:Rockford Public Library – East Branch\, 6685 East State Street\, Rockford\, IL\, IL\, 61108\, United States
END:VEVENT
BEGIN:VEVENT
DTSTART;TZID=America/Chicago:20240917T111500
DTEND;TZID=America/Chicago:20240917T120000
DTSTAMP:20260421T190047
CREATED:20240510T155003Z
LAST-MODIFIED:20240510T155003Z
UID:10000122-1726571700-1726574400@unitedforliteracy.info
SUMMARY:RPL's Tunes and Tales Storytime
DESCRIPTION:Join RPL for this active Storytime! \n\n\n\n\n\n\nThe Montague Crew will read stories\, sing songs\, and have your child up and dancing at this fun\, active story time. \nWhere: Montague branch\, Connie Lane Room
URL:https://unitedforliteracy.info/event/rpls-tunes-and-tales-storytime/2024-09-17/
LOCATION:RPL: Montague Branch\, 1238 South Winnebago Street\, Rockford\, IL\, 61102\, United States
END:VEVENT
BEGIN:VEVENT
DTSTART;TZID=America/Chicago:20240919T090000
DTEND;TZID=America/Chicago:20240919T100000
DTSTAMP:20260421T190047
CREATED:20240531T152756Z
LAST-MODIFIED:20240531T152756Z
UID:10000662-1726736400-1726740000@unitedforliteracy.info
SUMMARY:Anderson Japanese Gardens: Garden Explorers
DESCRIPTION:Garden Explorers is a ten-week interactive parent/child activity.  Each week features a story time led by a community leader\, followed by an activity\, craft\, or children’s music. Garden Explorers is appropriate for four to six-year-olds\, but children of all ages are welcome. \n\n\n\n\n\n\n\n\nEvery Thursday Morning\nJune 13 – August 15 | 9:00 – 10:00 AM \n(No program on the 4th of July)  \nFREE for all Participants\nParents & Grandparents Encouraged \nChildren must be accompanied by an adult guardian at all times \n  \nGarden Explorers Takes Place in the Pavilion\nEnter the Garden via Admissions inside the Visitor Center \nWeekly Speakers \nGarden Explorers – Anderson Japanese Gardens (andersongardens.org)
URL:https://unitedforliteracy.info/event/anderson-japanese-gardens-garden-explorers/2024-09-19/
LOCATION:Anderson Japanese Gardens\, 318 Spring Creek Road\, Rockford
END:VEVENT
BEGIN:VEVENT
DTSTART;TZID=America/Chicago:20240919T101500
DTEND;TZID=America/Chicago:20240919T110000
DTSTAMP:20260421T190047
CREATED:20240510T184325Z
LAST-MODIFIED:20240510T184325Z
UID:10000384-1726740900-1726743600@unitedforliteracy.info
SUMMARY:RPL's Preschool Storytime (Ages 3 - 5)
DESCRIPTION:Meet new friends\, listen to stories\, and get moving in this fun\, interactive story time to strengthen social\, fine motor\, and early literacy skills. \n\n\n\n\n\n\nPlease always check the online calendar via RPL’s website\, as programs may be canceled without notice due to unplanned absence/illness or unavoidable schedule conflicts/changes. Songs\, rhymes\, and activities support this storytime. Shared books count toward 1\,000 Books Before Kindergarten\, 300 Books Before Third Grade\, and other RPL reading programs such as our Summer Reading Challenge. Meet in the Friends of RPL Community Room at East Branch.
URL:https://unitedforliteracy.info/event/rpls-preschool-storytime-ages-3-5/2024-09-19/
LOCATION:Rockford Public Library – East Branch\, 6685 East State Street\, Rockford\, IL\, IL\, 61108\, United States
END:VEVENT
BEGIN:VEVENT
DTSTART;TZID=America/Chicago:20240924T111500
DTEND;TZID=America/Chicago:20240924T120000
DTSTAMP:20260421T190047
CREATED:20240510T155003Z
LAST-MODIFIED:20240510T155003Z
UID:10000123-1727176500-1727179200@unitedforliteracy.info
SUMMARY:RPL's Tunes and Tales Storytime
DESCRIPTION:Join RPL for this active Storytime! \n\n\n\n\n\n\nThe Montague Crew will read stories\, sing songs\, and have your child up and dancing at this fun\, active story time. \nWhere: Montague branch\, Connie Lane Room
URL:https://unitedforliteracy.info/event/rpls-tunes-and-tales-storytime/2024-09-24/
LOCATION:RPL: Montague Branch\, 1238 South Winnebago Street\, Rockford\, IL\, 61102\, United States
END:VEVENT
BEGIN:VEVENT
DTSTART;TZID=America/Chicago:20240926T090000
DTEND;TZID=America/Chicago:20240926T100000
DTSTAMP:20260421T190047
CREATED:20240531T152756Z
LAST-MODIFIED:20240531T152756Z
UID:10000663-1727341200-1727344800@unitedforliteracy.info
SUMMARY:Anderson Japanese Gardens: Garden Explorers
DESCRIPTION:Garden Explorers is a ten-week interactive parent/child activity.  Each week features a story time led by a community leader\, followed by an activity\, craft\, or children’s music. Garden Explorers is appropriate for four to six-year-olds\, but children of all ages are welcome. \n\n\n\n\n\n\n\n\nEvery Thursday Morning\nJune 13 – August 15 | 9:00 – 10:00 AM \n(No program on the 4th of July)  \nFREE for all Participants\nParents & Grandparents Encouraged \nChildren must be accompanied by an adult guardian at all times \n  \nGarden Explorers Takes Place in the Pavilion\nEnter the Garden via Admissions inside the Visitor Center \nWeekly Speakers \nGarden Explorers – Anderson Japanese Gardens (andersongardens.org)
URL:https://unitedforliteracy.info/event/anderson-japanese-gardens-garden-explorers/2024-09-26/
LOCATION:Anderson Japanese Gardens\, 318 Spring Creek Road\, Rockford
END:VEVENT
BEGIN:VEVENT
DTSTART;TZID=America/Chicago:20240926T101500
DTEND;TZID=America/Chicago:20240926T110000
DTSTAMP:20260421T190047
CREATED:20240510T184325Z
LAST-MODIFIED:20240510T184325Z
UID:10000385-1727345700-1727348400@unitedforliteracy.info
SUMMARY:RPL's Preschool Storytime (Ages 3 - 5)
DESCRIPTION:Meet new friends\, listen to stories\, and get moving in this fun\, interactive story time to strengthen social\, fine motor\, and early literacy skills. \n\n\n\n\n\n\nPlease always check the online calendar via RPL’s website\, as programs may be canceled without notice due to unplanned absence/illness or unavoidable schedule conflicts/changes. Songs\, rhymes\, and activities support this storytime. Shared books count toward 1\,000 Books Before Kindergarten\, 300 Books Before Third Grade\, and other RPL reading programs such as our Summer Reading Challenge. Meet in the Friends of RPL Community Room at East Branch.
URL:https://unitedforliteracy.info/event/rpls-preschool-storytime-ages-3-5/2024-09-26/
LOCATION:Rockford Public Library – East Branch\, 6685 East State Street\, Rockford\, IL\, IL\, 61108\, United States
END:VEVENT
END:VCALENDAR