BEGIN:VCALENDAR
VERSION:2.0
PRODID:-//United for Literacy - ECPv6.15.20//NONSGML v1.0//EN
CALSCALE:GREGORIAN
METHOD:PUBLISH
X-WR-CALNAME:United for Literacy
X-ORIGINAL-URL:https://unitedforliteracy.info
X-WR-CALDESC:Events for United for Literacy
REFRESH-INTERVAL;VALUE=DURATION:PT1H
X-Robots-Tag:noindex
X-PUBLISHED-TTL:PT1H
BEGIN:VTIMEZONE
TZID:America/Chicago
BEGIN:DAYLIGHT
TZOFFSETFROM:-0600
TZOFFSETTO:-0500
TZNAME:CDT
DTSTART:20230312T080000
END:DAYLIGHT
BEGIN:STANDARD
TZOFFSETFROM:-0500
TZOFFSETTO:-0600
TZNAME:CST
DTSTART:20231105T070000
END:STANDARD
BEGIN:DAYLIGHT
TZOFFSETFROM:-0600
TZOFFSETTO:-0500
TZNAME:CDT
DTSTART:20240310T080000
END:DAYLIGHT
BEGIN:STANDARD
TZOFFSETFROM:-0500
TZOFFSETTO:-0600
TZNAME:CST
DTSTART:20241103T070000
END:STANDARD
BEGIN:DAYLIGHT
TZOFFSETFROM:-0600
TZOFFSETTO:-0500
TZNAME:CDT
DTSTART:20250309T080000
END:DAYLIGHT
BEGIN:STANDARD
TZOFFSETFROM:-0500
TZOFFSETTO:-0600
TZNAME:CST
DTSTART:20251102T070000
END:STANDARD
END:VTIMEZONE
BEGIN:VEVENT
DTSTART;TZID=America/Chicago:20240513T100000
DTEND;TZID=America/Chicago:20240513T104500
DTSTAMP:20260422T013154
CREATED:20240510T152240Z
LAST-MODIFIED:20240510T152240Z
UID:10000105-1715594400-1715597100@unitedforliteracy.info
SUMMARY:RPL's Preschool Power Storytime
DESCRIPTION:Books\, songs\, storytelling\, and crafts for children ages 3-5 \n\n\n\n\n\n\nAttention Preschoolers and Parents/Caregivers: Come to this fun-filled program for stories\, songs\, felt-board rhymes\, and crafts that will give you “preschool power.”  We will work on the “ABCS and 123s” as well as science\, nature\, community\, and social/emotional skills by sharing picture books and related activities. This program is developmentally designed for children ages 3-
URL:https://unitedforliteracy.info/event/rpls-preschool-power-storytime/2024-05-13/
LOCATION:hart interim library\, 214 North Church Street\, Rockfor
END:VEVENT
BEGIN:VEVENT
DTSTART;TZID=America/Chicago:20240516T101500
DTEND;TZID=America/Chicago:20240516T110000
DTSTAMP:20260422T013154
CREATED:20240510T184325Z
LAST-MODIFIED:20240510T184325Z
UID:10000366-1715854500-1715857200@unitedforliteracy.info
SUMMARY:RPL's Preschool Storytime (Ages 3 - 5)
DESCRIPTION:Meet new friends\, listen to stories\, and get moving in this fun\, interactive story time to strengthen social\, fine motor\, and early literacy skills. \n\n\n\n\n\n\nPlease always check the online calendar via RPL’s website\, as programs may be canceled without notice due to unplanned absence/illness or unavoidable schedule conflicts/changes. Songs\, rhymes\, and activities support this storytime. Shared books count toward 1\,000 Books Before Kindergarten\, 300 Books Before Third Grade\, and other RPL reading programs such as our Summer Reading Challenge. Meet in the Friends of RPL Community Room at East Branch.
URL:https://unitedforliteracy.info/event/rpls-preschool-storytime-ages-3-5/2024-05-16/
LOCATION:Rockford Public Library – East Branch\, 6685 East State Street\, Rockford\, IL\, IL\, 61108\, United States
END:VEVENT
BEGIN:VEVENT
DTSTART;TZID=America/Chicago:20240516T173000
DTEND;TZID=America/Chicago:20240516T183000
DTSTAMP:20260422T013154
CREATED:20240510T144751Z
LAST-MODIFIED:20240510T144751Z
UID:10000102-1715880600-1715884200@unitedforliteracy.info
SUMMARY:Alignment Rockford's Ready to Learn Space
DESCRIPTION:In partnership with United Way\, Alignment Rockford is pleased to host family story times and activities for children ages 0 to 5. \nThursday\, May 16 Kingdom Cutz\, 2448 S. Alpine Rd.\, Rockford\, IL 61108
URL:https://unitedforliteracy.info/event/alignment-rockfords-ready-to-learn-space/
LOCATION:Kingdom Cutz\, 2448 S Alpine Rd.\, Rockford
END:VEVENT
BEGIN:VEVENT
DTSTART;TZID=America/Chicago:20240516T173000
DTEND;TZID=America/Chicago:20240516T193000
DTSTAMP:20260422T013154
CREATED:20240510T181753Z
LAST-MODIFIED:20240510T181753Z
UID:10000365-1715880600-1715887800@unitedforliteracy.info
SUMMARY:Out of the Box Literacy Night at Summerdale
DESCRIPTION:Learn how to support and encourage the love of reading in your home so your child can grow and learn! There will be FREE books\, a parent workshop\, activities for kids\, and pizza for everyone. Scan the QR code below to register.
URL:https://unitedforliteracy.info/event/out-of-the-box-literacy-night-at-summerdale/
LOCATION:Summerdale\, 3320 Glenwood Ave.\, Rockford\, IL\, United States
END:VEVENT
BEGIN:VEVENT
DTSTART;TZID=America/Chicago:20240517T180000
DTEND;TZID=America/Chicago:20240517T200000
DTSTAMP:20260422T013154
CREATED:20240510T140334Z
LAST-MODIFIED:20240510T140334Z
UID:10000099-1715968800-1715976000@unitedforliteracy.info
SUMMARY:Book Vending Machine Ribbon Cutting
DESCRIPTION:Join the Junior League of Rockford as they install their second Book Vending Machine for their Literacy Leaders Project! The ribbon cutting will occur during the museum’s special event\, “Goodnight Discovery Town\,” which runs from 6:00 p.m. to 8:00 p.m.* Stay tuned for more details! \n\n\n\n\n* 𝑀𝑢𝑠𝑒𝑢𝑚 𝑎𝑑𝑚𝑖𝑠𝑠𝑖𝑜𝑛 𝑖𝑠𝑛’𝑡 𝑟𝑒𝑞𝑢𝑖𝑟𝑒𝑑 𝑡𝑜 𝑎𝑡𝑡𝑒𝑛𝑑 𝑡ℎ𝑒 𝑟𝑖𝑏𝑏𝑜𝑛 𝑐𝑢𝑡𝑡𝑖𝑛𝑔. 𝐼𝑓 𝑎𝑡𝑡𝑒𝑛𝑑𝑒𝑒𝑠 𝑤𝑜𝑢𝑙𝑑 𝑙𝑖𝑘𝑒 𝑡𝑜 𝑣𝑖𝑠𝑖𝑡 𝑎𝑛𝑦 𝑜𝑓 𝑡ℎ𝑒 𝑚𝑢𝑠𝑒𝑢𝑚 𝑒𝑥ℎ𝑖𝑏𝑖𝑡𝑠 𝑏𝑒𝑓𝑜𝑟𝑒 𝑜𝑟 𝑎𝑓𝑡𝑒𝑟 𝑡ℎ𝑒 𝑟𝑖𝑏𝑏𝑜𝑛 𝑐𝑢𝑡𝑡𝑖𝑛𝑔\, 𝑎 𝑚𝑢𝑠𝑒𝑢𝑚 𝑡𝑖𝑐𝑘𝑒𝑡 𝑚𝑢𝑠𝑡 𝑏𝑒 𝑝𝑢𝑟𝑐ℎ𝑎𝑠𝑒𝑑.\n\n#juniorleague #jlr #jlrockford #LiteracyLeaders #InspireandEmpower #UnapologeticallyReady #BeTheChange #KindnessisKing
URL:https://unitedforliteracy.info/event/book-vending-machine-ribbon-cutting/
LOCATION:Discovery Center Museum\, 711 N. Main Street\, Rockford\, IL\, 61103\, United States
END:VEVENT
BEGIN:VEVENT
DTSTART;TZID=America/Chicago:20240518T093000
DTEND;TZID=America/Chicago:20240518T113000
DTSTAMP:20260422T013154
CREATED:20240510T145442Z
LAST-MODIFIED:20240510T145551Z
UID:10000103-1716024600-1716031800@unitedforliteracy.info
SUMMARY:Alignment Rockford's Ready to Learn Space
DESCRIPTION:In partnership with United Way\, Alignment Rockford is pleased to host family story times and activities for children ages 0 to 5. \nSaturday\, May 18 Northwest Community Center\, 1325 N. Johnston Ave.\, Rockford\, IL 61101
URL:https://unitedforliteracy.info/event/alignment-rockfords-ready-to-learn-space-2/
LOCATION:Northwest Community Center\, 1325 N. Johnston Ave.\, Rockford\, IL\, 61101\, United States
END:VEVENT
BEGIN:VEVENT
DTSTART;TZID=America/Chicago:20240520T100000
DTEND;TZID=America/Chicago:20240520T104500
DTSTAMP:20260422T013154
CREATED:20240510T152240Z
LAST-MODIFIED:20240510T152240Z
UID:10000106-1716199200-1716201900@unitedforliteracy.info
SUMMARY:RPL's Preschool Power Storytime
DESCRIPTION:Books\, songs\, storytelling\, and crafts for children ages 3-5 \n\n\n\n\n\n\nAttention Preschoolers and Parents/Caregivers: Come to this fun-filled program for stories\, songs\, felt-board rhymes\, and crafts that will give you “preschool power.”  We will work on the “ABCS and 123s” as well as science\, nature\, community\, and social/emotional skills by sharing picture books and related activities. This program is developmentally designed for children ages 3-
URL:https://unitedforliteracy.info/event/rpls-preschool-power-storytime/2024-05-20/
LOCATION:hart interim library\, 214 North Church Street\, Rockfor
END:VEVENT
BEGIN:VEVENT
DTSTART;TZID=America/Chicago:20240523T101500
DTEND;TZID=America/Chicago:20240523T110000
DTSTAMP:20260422T013154
CREATED:20240510T184325Z
LAST-MODIFIED:20240510T184325Z
UID:10000367-1716459300-1716462000@unitedforliteracy.info
SUMMARY:RPL's Preschool Storytime (Ages 3 - 5)
DESCRIPTION:Meet new friends\, listen to stories\, and get moving in this fun\, interactive story time to strengthen social\, fine motor\, and early literacy skills. \n\n\n\n\n\n\nPlease always check the online calendar via RPL’s website\, as programs may be canceled without notice due to unplanned absence/illness or unavoidable schedule conflicts/changes. Songs\, rhymes\, and activities support this storytime. Shared books count toward 1\,000 Books Before Kindergarten\, 300 Books Before Third Grade\, and other RPL reading programs such as our Summer Reading Challenge. Meet in the Friends of RPL Community Room at East Branch.
URL:https://unitedforliteracy.info/event/rpls-preschool-storytime-ages-3-5/2024-05-23/
LOCATION:Rockford Public Library – East Branch\, 6685 East State Street\, Rockford\, IL\, IL\, 61108\, United States
END:VEVENT
BEGIN:VEVENT
DTSTART;TZID=America/Chicago:20240530T101500
DTEND;TZID=America/Chicago:20240530T110000
DTSTAMP:20260422T013154
CREATED:20240510T184325Z
LAST-MODIFIED:20240510T184325Z
UID:10000368-1717064100-1717066800@unitedforliteracy.info
SUMMARY:RPL's Preschool Storytime (Ages 3 - 5)
DESCRIPTION:Meet new friends\, listen to stories\, and get moving in this fun\, interactive story time to strengthen social\, fine motor\, and early literacy skills. \n\n\n\n\n\n\nPlease always check the online calendar via RPL’s website\, as programs may be canceled without notice due to unplanned absence/illness or unavoidable schedule conflicts/changes. Songs\, rhymes\, and activities support this storytime. Shared books count toward 1\,000 Books Before Kindergarten\, 300 Books Before Third Grade\, and other RPL reading programs such as our Summer Reading Challenge. Meet in the Friends of RPL Community Room at East Branch.
URL:https://unitedforliteracy.info/event/rpls-preschool-storytime-ages-3-5/2024-05-30/
LOCATION:Rockford Public Library – East Branch\, 6685 East State Street\, Rockford\, IL\, IL\, 61108\, United States
END:VEVENT
BEGIN:VEVENT
DTSTART;TZID=America/Chicago:20240530T113000
DTEND;TZID=America/Chicago:20240530T130000
DTSTAMP:20260422T013154
CREATED:20240510T150311Z
LAST-MODIFIED:20240510T150311Z
UID:10000104-1717068600-1717074000@unitedforliteracy.info
SUMMARY:Alignment Rockford's Ready to Learn Space
DESCRIPTION:In partnership with United Way\, Alignment Rockford is pleased to host family story times and activities for children ages 0 to 5. \nThursday\, May 30 A-1 Dry Cleaners and Laundromat\, 1304 Brooke Rd.\, Rockford\, IL 61109
URL:https://unitedforliteracy.info/event/alignment-rockfords-ready-to-learn-space-3/
LOCATION:A-1 Dry Cleaners and Laundromat\, 1304 Brooke Rd\, Rockford\, IL\, 61109\, United States
END:VEVENT
END:VCALENDAR