BEGIN:VCALENDAR
VERSION:2.0
PRODID:-//United for Literacy - ECPv6.15.20//NONSGML v1.0//EN
CALSCALE:GREGORIAN
METHOD:PUBLISH
X-ORIGINAL-URL:https://unitedforliteracy.info
X-WR-CALDESC:Events for United for Literacy
REFRESH-INTERVAL;VALUE=DURATION:PT1H
X-Robots-Tag:noindex
X-PUBLISHED-TTL:PT1H
BEGIN:VTIMEZONE
TZID:America/Chicago
BEGIN:DAYLIGHT
TZOFFSETFROM:-0600
TZOFFSETTO:-0500
TZNAME:CDT
DTSTART:20230312T080000
END:DAYLIGHT
BEGIN:STANDARD
TZOFFSETFROM:-0500
TZOFFSETTO:-0600
TZNAME:CST
DTSTART:20231105T070000
END:STANDARD
BEGIN:DAYLIGHT
TZOFFSETFROM:-0600
TZOFFSETTO:-0500
TZNAME:CDT
DTSTART:20240310T080000
END:DAYLIGHT
BEGIN:STANDARD
TZOFFSETFROM:-0500
TZOFFSETTO:-0600
TZNAME:CST
DTSTART:20241103T070000
END:STANDARD
BEGIN:DAYLIGHT
TZOFFSETFROM:-0600
TZOFFSETTO:-0500
TZNAME:CDT
DTSTART:20250309T080000
END:DAYLIGHT
BEGIN:STANDARD
TZOFFSETFROM:-0500
TZOFFSETTO:-0600
TZNAME:CST
DTSTART:20251102T070000
END:STANDARD
END:VTIMEZONE
BEGIN:VEVENT
DTSTART;TZID=America/Chicago:20240305T111500
DTEND;TZID=America/Chicago:20240305T114500
DTSTAMP:20260422T045301
CREATED:20231220T202801Z
LAST-MODIFIED:20231220T202801Z
UID:10000073-1709637300-1709639100@unitedforliteracy.info
SUMMARY:RPL Montague Branch: Tunes and Tales Storytime
DESCRIPTION:Where: Connie Lane Room \nJoin RPL for this active storytime! \n\n\n\n\n\n\nThe Montague Crew will read stories\, sing songs\, and have you up and dancing at this fun\, active storytime.
URL:https://unitedforliteracy.info/event/rpl-montague-branch-tunes-and-tales-storytime-10/
LOCATION:RPL: Montague Branch\, 1238 South Winnebago Street\, Rockford\, IL\, 61102\, United States
END:VEVENT
BEGIN:VEVENT
DTSTART;TZID=America/Chicago:20240305T180000
DTEND;TZID=America/Chicago:20240305T184500
DTSTAMP:20260422T045301
CREATED:20231220T203044Z
LAST-MODIFIED:20231220T203044Z
UID:10000074-1709661600-1709664300@unitedforliteracy.info
SUMMARY:RPL East Branch: Evening Storytime (Ages 3-7)
DESCRIPTION:Where: Friends of RPL Community Room \nTuesday evening stories\, rhymes\, and songs topped off with some coloring time. Meets every Tuesday evening (except 3/19). Always check the RPL online calendar\, as programs may be canceled w/out notice. \n\n\n\n\n\n\nThis storytime is great for introducing your preschooler to sitting while listening to stories and entertaining your kindergartener or first grader. Shared book titles count toward 1\,000 Books Before Kindergarten and other reading programs. Please always check the RPL online calendar\, as programs may be canceled w/out notice due to unplanned absence/illness or unavoidable schedule conflicts/changes.
URL:https://unitedforliteracy.info/event/rpl-east-branch-evening-storytime-ages-3-7-10/
LOCATION:Rockford Public Library – East Branch\, 6685 East State Street\, Rockford\, IL\, IL\, 61108\, United States
END:VEVENT
BEGIN:VEVENT
DTSTART;TZID=America/Chicago:20240307T101500
DTEND;TZID=America/Chicago:20240307T110000
DTSTAMP:20260422T045301
CREATED:20231220T203245Z
LAST-MODIFIED:20231220T203245Z
UID:10000075-1709806500-1709809200@unitedforliteracy.info
SUMMARY:RPL East Branch: Preschool Storytime (Ages 3-5)
DESCRIPTION:Meet new friends\, listen to stories\, and get moving in this fun\, interactive storytime designed to strengthen social\, fine motor\, and early literacy skills—every Thursday except 1/25. \n\n\n\n\n\n\nPlease always check the online calendar via RPL’s website\, as programs may be canceled without notice due to unplanned absence/illness or unavoidable schedule conflicts/changes. Meets every Thursday morning in the Friends of RPL Community Room at East Branch. Songs\, rhymes\, and activities support this storytime. Shared books count toward 1\,000 Books Before Kindergarten and other reading programs.
URL:https://unitedforliteracy.info/event/rpl-east-branch-preschool-storytime-ages-3-5-9/
LOCATION:Rockford Public Library – East Branch\, 6685 East State Street\, Rockford\, IL\, IL\, 61108\, United States
END:VEVENT
BEGIN:VEVENT
DTSTART;TZID=America/Chicago:20240312T111500
DTEND;TZID=America/Chicago:20240312T114500
DTSTAMP:20260422T045301
CREATED:20231220T203450Z
LAST-MODIFIED:20231220T203450Z
UID:10000076-1710242100-1710243900@unitedforliteracy.info
SUMMARY:RPL Montague Branch: Tunes and Tales Storytime
DESCRIPTION:Where: Connie Lane Room \nJoin RPL for this active storytime! \n\n\n\n\n\n\nThe Montague Crew will read stories\, sing songs\, and have you up and dancing at this fun\, active storytime.
URL:https://unitedforliteracy.info/event/rpl-montague-branch-tunes-and-tales-storytime-11/
LOCATION:RPL: Montague Branch\, 1238 South Winnebago Street\, Rockford\, IL\, 61102\, United States
END:VEVENT
BEGIN:VEVENT
DTSTART;TZID=America/Chicago:20240312T180000
DTEND;TZID=America/Chicago:20240312T184500
DTSTAMP:20260422T045301
CREATED:20231220T203740Z
LAST-MODIFIED:20231220T203740Z
UID:10000077-1710266400-1710269100@unitedforliteracy.info
SUMMARY:RPL East Branch: Evening Storytime (Ages 3-7)
DESCRIPTION:Where: Friends of RPL Community Room \nTuesday evening stories\, rhymes\, and songs topped off with some coloring time. Meets every Tuesday evening (except 3/19). Always check the RPL online calendar\, as programs may be canceled w/out notice. \n\n\n\n\n\n\nThis storytime is great for introducing your preschooler to sitting while listening to stories and entertaining your kindergartener or first grader. Shared book titles count toward 1\,000 Books Before Kindergarten and other reading programs. Please always check the RPL online calendar\, as programs may be canceled w/out notice due to unplanned absence/illness or unavoidable schedule conflicts/changes.
URL:https://unitedforliteracy.info/event/rpl-east-branch-evening-storytime-ages-3-7-11/
LOCATION:Rockford Public Library – East Branch\, 6685 East State Street\, Rockford\, IL\, IL\, 61108\, United States
END:VEVENT
BEGIN:VEVENT
DTSTART;TZID=America/Chicago:20240314T101500
DTEND;TZID=America/Chicago:20240314T110000
DTSTAMP:20260422T045301
CREATED:20231220T203928Z
LAST-MODIFIED:20231220T203928Z
UID:10000078-1710411300-1710414000@unitedforliteracy.info
SUMMARY:RPL East Branch: Preschool Storytime (Ages 3-5)
DESCRIPTION:Meet new friends\, listen to stories\, and get moving in this fun\, interactive storytime designed to strengthen social\, fine motor\, and early literacy skills—every Thursday except 1/25. \n\n\n\n\n\n\nPlease always check the online calendar via RPL’s website\, as programs may be canceled without notice due to unplanned absence/illness or unavoidable schedule conflicts/changes. Meets every Thursday morning in the Friends of RPL Community Room at East Branch. Songs\, rhymes\, and activities support this storytime. Shared books count toward 1\,000 Books Before Kindergarten and other reading programs.
URL:https://unitedforliteracy.info/event/rpl-east-branch-preschool-storytime-ages-3-5-10/
LOCATION:Rockford Public Library – East Branch\, 6685 East State Street\, Rockford\, IL\, IL\, 61108\, United States
END:VEVENT
BEGIN:VEVENT
DTSTART;TZID=America/Chicago:20240319T111500
DTEND;TZID=America/Chicago:20240319T114500
DTSTAMP:20260422T045301
CREATED:20231220T204133Z
LAST-MODIFIED:20231220T204133Z
UID:10000079-1710846900-1710848700@unitedforliteracy.info
SUMMARY:RPL Montague Branch: Tunes and Tales Storytime
DESCRIPTION:Where: Connie Lane Room \nJoin us for this active storytime! \n\n\n\n\n\n\nThe Montague Crew will read stories\, sing songs\, and have you up and dancing at this fun\, active storytime.
URL:https://unitedforliteracy.info/event/rpl-montague-branch-tunes-and-tales-storytime-12/
LOCATION:RPL: Montague Branch\, 1238 South Winnebago Street\, Rockford\, IL\, 61102\, United States
END:VEVENT
BEGIN:VEVENT
DTSTART;TZID=America/Chicago:20240321T101500
DTEND;TZID=America/Chicago:20240321T110000
DTSTAMP:20260422T045301
CREATED:20231220T204335Z
LAST-MODIFIED:20231220T204335Z
UID:10000080-1711016100-1711018800@unitedforliteracy.info
SUMMARY:RPL East Branch: Preschool Storytime (Ages 3-5)
DESCRIPTION:Meet new friends\, listen to stories\, and get moving in this fun\, interactive storytime designed to strengthen social\, fine motor\, and early literacy skills. Every Thursday except 1/25. \n\n\n\n\n\n\nPlease always check the online calendar via RPL’s website\, as programs may be canceled without notice due to unplanned absence/illness or unavoidable schedule conflicts/changes. Meets every Thursday morning in the Friends of RPL Community Room at East Branch. Songs\, rhymes\, and activities support this storytime. Shared books count toward 1\,000 Books Before Kindergarten and other reading programs.
URL:https://unitedforliteracy.info/event/rpl-east-branch-preschool-storytime-ages-3-5-11/
LOCATION:Rockford Public Library – East Branch\, 6685 East State Street\, Rockford\, IL\, IL\, 61108\, United States
END:VEVENT
BEGIN:VEVENT
DTSTART;TZID=America/Chicago:20240326T111500
DTEND;TZID=America/Chicago:20240326T114500
DTSTAMP:20260422T045301
CREATED:20231220T210227Z
LAST-MODIFIED:20231220T210522Z
UID:10000081-1711451700-1711453500@unitedforliteracy.info
SUMMARY:RPL Montague Branch: Tunes and Tales Storytime
DESCRIPTION:Where: Connie Lane Room \nJoin RPL for this active storytime! \n\n\n\n\n\n\nThe Montague Crew will read stories\, sing songs\, and have you up and dancing at this fun\, active storytime.
URL:https://unitedforliteracy.info/event/rpl-montague-branch-tunes-and-tales-storytime-13/
LOCATION:RPL: Montague Branch\, 1238 South Winnebago Street\, Rockford\, IL\, 61102\, United States
END:VEVENT
BEGIN:VEVENT
DTSTART;TZID=America/Chicago:20240326T180000
DTEND;TZID=America/Chicago:20240326T184500
DTSTAMP:20260422T045301
CREATED:20231220T210809Z
LAST-MODIFIED:20231220T210809Z
UID:10000082-1711476000-1711478700@unitedforliteracy.info
SUMMARY:RPL East Branch: Evening Storytime (Ages 3-7)
DESCRIPTION:Where: Friends of RPL Community Room \nTuesday evening stories\, rhymes\, and songs topped off with some coloring time. Meets every Tuesday evening (except 3/19). Always check the RPL online calendar\, as programs may be canceled w/out notice. \n\n\n\n\n\n\nThis storytime is great for introducing your preschooler to sitting while listening to stories and entertaining your kindergartener or first grader. Shared book titles count toward 1\,000 Books Before Kindergarten and other reading programs. Please always check the RPL online calendar\, as programs may be canceled w/out notice due to unplanned absence/illness or unavoidable schedule conflicts/changes.
URL:https://unitedforliteracy.info/event/rpl-east-branch-evening-storytime-ages-3-7-12/
LOCATION:Rockford Public Library – East Branch\, 6685 East State Street\, Rockford\, IL\, IL\, 61108\, United States
END:VEVENT
BEGIN:VEVENT
DTSTART;TZID=America/Chicago:20240328T101500
DTEND;TZID=America/Chicago:20240328T110000
DTSTAMP:20260422T045301
CREATED:20231220T210957Z
LAST-MODIFIED:20231220T210957Z
UID:10000083-1711620900-1711623600@unitedforliteracy.info
SUMMARY:RPL East Branch: Preschool Storytime (Ages 3-5)
DESCRIPTION:Meet new friends\, listen to stories\, and get moving in this fun\, interactive storytime designed to strengthen social\, fine motor\, and early literacy skills—every Thursday except 1/25. \n\n\n\n\n\n\nPlease always check the online calendar via RPL’s website\, as programs may be canceled without notice due to unplanned absence/illness or unavoidable schedule conflicts/changes. Meets every Thursday morning in the Friends of RPL Community Room at East Branch. Songs\, rhymes\, and activities support this storytime. Shared books count toward 1\,000 Books Before Kindergarten and other reading programs.
URL:https://unitedforliteracy.info/event/rpl-east-branch-preschool-storytime-ages-3-5-12/
LOCATION:Rockford Public Library – East Branch\, 6685 East State Street\, Rockford\, IL\, IL\, 61108\, United States
END:VEVENT
END:VCALENDAR