BEGIN:VCALENDAR
VERSION:2.0
PRODID:-//United for Literacy - ECPv6.15.20//NONSGML v1.0//EN
CALSCALE:GREGORIAN
METHOD:PUBLISH
X-WR-CALNAME:United for Literacy
X-ORIGINAL-URL:https://unitedforliteracy.info
X-WR-CALDESC:Events for United for Literacy
REFRESH-INTERVAL;VALUE=DURATION:PT1H
X-Robots-Tag:noindex
X-PUBLISHED-TTL:PT1H
BEGIN:VTIMEZONE
TZID:America/Chicago
BEGIN:DAYLIGHT
TZOFFSETFROM:-0600
TZOFFSETTO:-0500
TZNAME:CDT
DTSTART:20230312T080000
END:DAYLIGHT
BEGIN:STANDARD
TZOFFSETFROM:-0500
TZOFFSETTO:-0600
TZNAME:CST
DTSTART:20231105T070000
END:STANDARD
BEGIN:DAYLIGHT
TZOFFSETFROM:-0600
TZOFFSETTO:-0500
TZNAME:CDT
DTSTART:20240310T080000
END:DAYLIGHT
BEGIN:STANDARD
TZOFFSETFROM:-0500
TZOFFSETTO:-0600
TZNAME:CST
DTSTART:20241103T070000
END:STANDARD
BEGIN:DAYLIGHT
TZOFFSETFROM:-0600
TZOFFSETTO:-0500
TZNAME:CDT
DTSTART:20250309T080000
END:DAYLIGHT
BEGIN:STANDARD
TZOFFSETFROM:-0500
TZOFFSETTO:-0600
TZNAME:CST
DTSTART:20251102T070000
END:STANDARD
END:VTIMEZONE
BEGIN:VEVENT
DTSTART;TZID=America/Chicago:20240201T101500
DTEND;TZID=America/Chicago:20240201T110000
DTSTAMP:20260422T063716
CREATED:20231220T192553Z
LAST-MODIFIED:20231220T192553Z
UID:10000059-1706782500-1706785200@unitedforliteracy.info
SUMMARY:RPL East Branch: Preschool Storytime (Ages 3-5)
DESCRIPTION:Meet new friends\, listen to stories\, and get moving in this fun\, interactive storytime designed to strengthen social\, fine motor\, and early literacy skills—every Thursday except 1/25. \n\n\n\n\n\n\nPlease always check the online calendar via RPL’s website\, as programs may be canceled without notice due to unplanned absence/illness or unavoidable schedule conflicts/changes. Meets every Thursday morning in the Friends of RPL Community Room at East Branch. This storytime is supported by songs\, rhymes\, and activities. Shared books count toward 1\,000 Books Before Kindergarten and other reading programs.
URL:https://unitedforliteracy.info/event/rpl-east-branch-preschool-storytime-ages-3-5-4/
LOCATION:Rockford Public Library – East Branch\, 6685 East State Street\, Rockford\, IL\, IL\, 61108\, United States
END:VEVENT
BEGIN:VEVENT
DTSTART;TZID=America/Chicago:20240203T110000
DTEND;TZID=America/Chicago:20240203T120000
DTSTAMP:20260422T063716
CREATED:20231220T192715Z
LAST-MODIFIED:20231220T192715Z
UID:10000060-1706958000-1706961600@unitedforliteracy.info
SUMMARY:RPL Literacy Corner Storytime
DESCRIPTION:Soap\, Suds\, and Stories: Early Literacy at the Laundromat!\n\n\n\n\n\n\n\n\n\n\n\n\nBooks\, songs\, and stories\, we’re bringing the library to you! \n\n\n\n\n\n\nBring your children to the RPL Literacy Corner here at Rockford Washer for a special Storytime hosted by an RPL staff member. \nAbout Literacy Corners at the Laundromat\nLiteracy Corners at the Laundromat is an outreach program that increases access to children’s books and promotes the development of early literacy skills for children and families who visit participating local laundromats. Each laundromat library would contain diverse books in English\, Spanish\, Arabic\, Karen (Burmese)\, French\, and Swahili for children ages 0-8. \nFamilies are invited to read while at the laundromat and browse parent resources provided by RPL.
URL:https://unitedforliteracy.info/event/rpl-literacy-corner-storytime-3/
LOCATION:Rockford Washer Laundry\, 3519 N. Main Street\, Rockford\, IL\, 61103\, United States
END:VEVENT
BEGIN:VEVENT
DTSTART;TZID=America/Chicago:20240206T111500
DTEND;TZID=America/Chicago:20240206T114500
DTSTAMP:20260422T063716
CREATED:20231220T192918Z
LAST-MODIFIED:20231220T192918Z
UID:10000061-1707218100-1707219900@unitedforliteracy.info
SUMMARY:RPL Montague Branch: Tunes and Tales Storytime
DESCRIPTION:Where: Connie Lane Room \nJoin RPL for this active storytime! \n\n\n\n\n\n\nThe Montague Crew will read stories\, sing songs\, and have you up and dancing at this fun\, active storytime.
URL:https://unitedforliteracy.info/event/rpl-montague-branch-tunes-and-tales-storytime-6/
LOCATION:RPL: Montague Branch\, 1238 South Winnebago Street\, Rockford\, IL\, 61102\, United States
END:VEVENT
BEGIN:VEVENT
DTSTART;TZID=America/Chicago:20240208T101500
DTEND;TZID=America/Chicago:20240208T110000
DTSTAMP:20260422T063716
CREATED:20231220T193336Z
LAST-MODIFIED:20231220T193336Z
UID:10000063-1707387300-1707390000@unitedforliteracy.info
SUMMARY:RPL East Branch: Preschool Storytime (Ages 3-5)
DESCRIPTION:Meet new friends\, listen to stories\, and get moving in this fun\, interactive storytime designed to strengthen social\, fine motor\, and early literacy skills—every Thursday except 1/25. \n\n\n\n\n\n\nPlease always check the online calendar via RPL’s website\, as programs may be canceled without notice due to unplanned absence/illness or unavoidable schedule conflicts/changes. Meets every Thursday morning in the Friends of RPL Community Room at East Branch. Songs\, rhymes\, and activities support this storytime. Shared books count toward 1\,000 Books Before Kindergarten and other reading programs.
URL:https://unitedforliteracy.info/event/rpl-east-branch-preschool-storytime-ages-3-5-5/
LOCATION:Rockford Public Library – East Branch\, 6685 East State Street\, Rockford\, IL\, IL\, 61108\, United States
END:VEVENT
BEGIN:VEVENT
DTSTART;TZID=America/Chicago:20240213T111500
DTEND;TZID=America/Chicago:20240213T114500
DTSTAMP:20260422T063716
CREATED:20231220T193544Z
LAST-MODIFIED:20231220T193544Z
UID:10000064-1707822900-1707824700@unitedforliteracy.info
SUMMARY:RPL Montague Branch: Tunes and Tales Storytime
DESCRIPTION:Where: Connie Lane Room \nJoin RPL for this active storytime! \n\n\n\n\n\n\nThe Montague Crew will read stories\, sing songs\, and have you up and dancing at this fun\, active storytime.
URL:https://unitedforliteracy.info/event/rpl-montague-branch-tunes-and-tales-storytime-7/
LOCATION:RPL: Montague Branch\, 1238 South Winnebago Street\, Rockford\, IL\, 61102\, United States
END:VEVENT
BEGIN:VEVENT
DTSTART;TZID=America/Chicago:20240213T180000
DTEND;TZID=America/Chicago:20240213T184500
DTSTAMP:20260422T063716
CREATED:20231220T193831Z
LAST-MODIFIED:20231220T193831Z
UID:10000065-1707847200-1707849900@unitedforliteracy.info
SUMMARY:RPL East Branch: Evening Storytime (Ages 3-7)
DESCRIPTION:Where: Friends of RPL Community Room \nTuesday evening stories\, rhymes\, and songs topped off with some coloring time. Meets every Tuesday evening (except 3/19). Always check the RPL online calendar\, as programs may be canceled w/out notice. \n\n\n\n\n\n\nThis storytime is great for introducing your preschooler to sitting while listening to stories and entertaining your kindergartener or first grader. Shared book titles count toward 1\,000 Books Before Kindergarten and other reading programs. Please always check the RPL online calendar\, as programs may be canceled w/out notice due to unplanned absence/illness or unavoidable schedule conflicts/changes.
URL:https://unitedforliteracy.info/event/rpl-east-branch-evening-storytime-ages-3-7-8/
LOCATION:Rockford Public Library – East Branch\, 6685 East State Street\, Rockford\, IL\, IL\, 61108\, United States
END:VEVENT
BEGIN:VEVENT
DTSTART;TZID=America/Chicago:20240215T101500
DTEND;TZID=America/Chicago:20240215T110000
DTSTAMP:20260422T063716
CREATED:20231220T194022Z
LAST-MODIFIED:20231220T194022Z
UID:10000066-1707992100-1707994800@unitedforliteracy.info
SUMMARY:RPL East Branch: Preschool Storytime (Ages 3-5)
DESCRIPTION:Meet new friends\, listen to stories\, and get moving in this fun\, interactive storytime designed to strengthen social\, fine motor\, and early literacy skills—every Thursday except 1/25. \n\n\n\n\n\n\nPlease always check the online calendar via RPL’s website\, as programs may be canceled without notice due to unplanned absence/illness or unavoidable schedule conflicts/changes. Meets every Thursday morning in the Friends of RPL Community Room at East Branch. Songs\, rhymes\, and activities support this storytime. Shared books count toward 1\,000 Books Before Kindergarten and other reading programs.
URL:https://unitedforliteracy.info/event/rpl-east-branch-preschool-storytime-ages-3-5-6/
LOCATION:Rockford Public Library – East Branch\, 6685 East State Street\, Rockford\, IL\, IL\, 61108\, United States
END:VEVENT
BEGIN:VEVENT
DTSTART;TZID=America/Chicago:20240217T150000
DTEND;TZID=America/Chicago:20240217T160000
DTSTAMP:20260422T063716
CREATED:20231220T194145Z
LAST-MODIFIED:20231220T194145Z
UID:10000067-1708182000-1708185600@unitedforliteracy.info
SUMMARY:RPL Literacy Corner Storytime
DESCRIPTION:Soap\, Suds\, and Stories: Early Literacy at the Laundromat!\n\n\n\n\n\n\n\n\n\nBring your children to the RPL Literacy Corner here at Rockford Washer for a special Storytime hosted by an RPL staff member. \nAbout Literacy Corners at the Laundromat\nLiteracy Corners at the Laundromat is an outreach program that increases access to children’s books and promotes the development of early literacy skills for children and families who visit participating local laundromats. Each laundromat library would contain diverse books in English\, Spanish\, Arabic\, Karen (Burmese)\, French\, and Swahili for children ages 0-8. \nFamilies are invited to read while at the laundromat and browse parent resources provided by RPL.
URL:https://unitedforliteracy.info/event/rpl-literacy-corner-storytime-4/
LOCATION:Rockford Washer Laundry\, 3519 N. Main Street\, Rockford\, IL\, 61103\, United States
END:VEVENT
BEGIN:VEVENT
DTSTART;TZID=America/Chicago:20240220T111500
DTEND;TZID=America/Chicago:20240220T114500
DTSTAMP:20260422T063716
CREATED:20231220T194340Z
LAST-MODIFIED:20231220T194340Z
UID:10000068-1708427700-1708429500@unitedforliteracy.info
SUMMARY:RPL Montague Branch: Tunes and Tales Storytime
DESCRIPTION:Where: Connie Lane Room \nJoin RPL for this active storytime! \n\n\n\n\n\n\nThe Montague Crew will read stories\, sing songs\, and have you up and dancing at this fun\, active storytime.
URL:https://unitedforliteracy.info/event/rpl-montague-branch-tunes-and-tales-storytime-8/
LOCATION:RPL: Montague Branch\, 1238 South Winnebago Street\, Rockford\, IL\, 61102\, United States
END:VEVENT
BEGIN:VEVENT
DTSTART;TZID=America/Chicago:20240222T101500
DTEND;TZID=America/Chicago:20240222T110000
DTSTAMP:20260422T063716
CREATED:20231220T194544Z
LAST-MODIFIED:20231220T194544Z
UID:10000069-1708596900-1708599600@unitedforliteracy.info
SUMMARY:RPL East Branch: Preschool Storytime (Ages 3-5)
DESCRIPTION:Where: Friends of RPL Community Room \nMeet new friends\, listen to stories\, and get moving in this fun\, interactive storytime designed to strengthen social\, fine motor\, and early literacy skills—every Thursday except 1/25. \n\n\n\n\n\n\nPlease always check the online calendar via RPL’s website\, as programs may be canceled without notice due to unplanned absence/illness or unavoidable schedule conflicts/changes. Meets every Thursday morning in the Friends of RPL Community Room at East Branch. Songs\, rhymes\, and activities support this storytime. Shared books count toward 1\,000 Books Before Kindergarten and other reading programs.
URL:https://unitedforliteracy.info/event/rpl-east-branch-preschool-storytime-ages-3-5-7/
LOCATION:Rockford Public Library – East Branch\, 6685 East State Street\, Rockford\, IL\, IL\, 61108\, United States
END:VEVENT
BEGIN:VEVENT
DTSTART;TZID=America/Chicago:20240227T111500
DTEND;TZID=America/Chicago:20240227T114500
DTSTAMP:20260422T063716
CREATED:20231220T194805Z
LAST-MODIFIED:20231220T194805Z
UID:10000070-1709032500-1709034300@unitedforliteracy.info
SUMMARY:RPL Montague Branch: Tunes and Tales Storytime
DESCRIPTION:Where: Connie Lane Room \nJoin RPL for this active storytime! \n\n\n\n\n\n\nThe Montague Crew will read stories\, sing songs\, and have you up and dancing at this fun\, active storytime.
URL:https://unitedforliteracy.info/event/rpl-montague-branch-tunes-and-tales-storytime-9/
LOCATION:RPL: Montague Branch\, 1238 South Winnebago Street\, Rockford\, IL\, 61102\, United States
END:VEVENT
BEGIN:VEVENT
DTSTART;TZID=America/Chicago:20240227T180000
DTEND;TZID=America/Chicago:20240227T184500
DTSTAMP:20260422T063716
CREATED:20231220T195028Z
LAST-MODIFIED:20231220T195028Z
UID:10000071-1709056800-1709059500@unitedforliteracy.info
SUMMARY:RPL East Branch: Evening Storytime (Ages 3-7)
DESCRIPTION:Where: Friends of RPL Community Room \nTuesday evening stories\, rhymes\, and songs topped off with some coloring time. Meets every Tuesday evening (except 3/19). Always check the RPL online calendar\, as programs may be canceled w/out notice. \n\n\n\n\n\n\nThis storytime is great for introducing your preschooler to sitting while listening to stories and entertaining your kindergartener or first grader. Shared book titles count toward 1\,000 Books Before Kindergarten and other reading programs. Please always check the RPL online calendar\, as programs may be canceled w/out notice due to unplanned absence/illness or unavoidable schedule conflicts/changes.
URL:https://unitedforliteracy.info/event/rpl-east-branch-evening-storytime-ages-3-7-9/
LOCATION:Rockford Public Library – East Branch\, 6685 East State Street\, Rockford\, IL\, IL\, 61108\, United States
END:VEVENT
BEGIN:VEVENT
DTSTART;TZID=America/Chicago:20240229T101500
DTEND;TZID=America/Chicago:20240229T110000
DTSTAMP:20260422T063716
CREATED:20231220T195225Z
LAST-MODIFIED:20231220T195225Z
UID:10000072-1709201700-1709204400@unitedforliteracy.info
SUMMARY:RPL East Branch: Preschool Storytime (Ages 3-5)
DESCRIPTION:Meet new friends\, listen to stories\, and get moving in this fun\, interactive storytime designed to strengthen social\, fine motor\, and early literacy skills—every Thursday except 1/25. \n\n\n\n\n\n\nPlease always check the online calendar via RPL’s website\, as programs may be canceled without notice due to unplanned absence/illness or unavoidable schedule conflicts/changes. Meets every Thursday morning in the Friends of RPL Community Room at East Branch. Songs\, rhymes\, and activities support this storytime. Shared books count toward 1\,000 Books Before Kindergarten and other reading.
URL:https://unitedforliteracy.info/event/rpl-east-branch-preschool-storytime-ages-3-5-8/
LOCATION:Rockford Public Library – East Branch\, 6685 East State Street\, Rockford\, IL\, IL\, 61108\, United States
END:VEVENT
END:VCALENDAR