BEGIN:VCALENDAR
VERSION:2.0
PRODID:-//United for Literacy - ECPv6.15.20//NONSGML v1.0//EN
CALSCALE:GREGORIAN
METHOD:PUBLISH
X-ORIGINAL-URL:https://unitedforliteracy.info
X-WR-CALDESC:Events for United for Literacy
REFRESH-INTERVAL;VALUE=DURATION:PT1H
X-Robots-Tag:noindex
X-PUBLISHED-TTL:PT1H
BEGIN:VTIMEZONE
TZID:America/Chicago
BEGIN:DAYLIGHT
TZOFFSETFROM:-0600
TZOFFSETTO:-0500
TZNAME:CDT
DTSTART:20230312T080000
END:DAYLIGHT
BEGIN:STANDARD
TZOFFSETFROM:-0500
TZOFFSETTO:-0600
TZNAME:CST
DTSTART:20231105T070000
END:STANDARD
BEGIN:DAYLIGHT
TZOFFSETFROM:-0600
TZOFFSETTO:-0500
TZNAME:CDT
DTSTART:20240310T080000
END:DAYLIGHT
BEGIN:STANDARD
TZOFFSETFROM:-0500
TZOFFSETTO:-0600
TZNAME:CST
DTSTART:20241103T070000
END:STANDARD
BEGIN:DAYLIGHT
TZOFFSETFROM:-0600
TZOFFSETTO:-0500
TZNAME:CDT
DTSTART:20250309T080000
END:DAYLIGHT
BEGIN:STANDARD
TZOFFSETFROM:-0500
TZOFFSETTO:-0600
TZNAME:CST
DTSTART:20251102T070000
END:STANDARD
END:VTIMEZONE
BEGIN:VEVENT
DTSTART;TZID=America/Chicago:20240102T111500
DTEND;TZID=America/Chicago:20240102T114500
DTSTAMP:20260422T082004
CREATED:20231220T183550Z
LAST-MODIFIED:20231220T183550Z
UID:10000040-1704194100-1704195900@unitedforliteracy.info
SUMMARY:RPL Montague Branch: Tunes and Tales Storytime
DESCRIPTION:Where: Montague Branch\, Connie Lane Room \nJoin the Rockford Public Library for this active storytime! \n\n\n\n\n\n\nThe Montague Crew will read stories\, sing songs\, and have you up and dancing at this fun\, active storytime.
URL:https://unitedforliteracy.info/event/rpl-montague-branch-tunes-and-tales-storytime/
LOCATION:RPL: Montague Branch\, 1238 South Winnebago Street\, Rockford\, IL\, 61102\, United States
END:VEVENT
BEGIN:VEVENT
DTSTART;TZID=America/Chicago:20240102T180000
DTEND;TZID=America/Chicago:20240102T184500
DTSTAMP:20260422T082004
CREATED:20231220T183926Z
LAST-MODIFIED:20231220T183926Z
UID:10000041-1704218400-1704221100@unitedforliteracy.info
SUMMARY:RPL East Branch: Evening Storytime (Ages 3-7)
DESCRIPTION:Where: RPL East Branch\, Friends of RPL Community Room \nTuesday evening stories\, rhymes\, and songs topped off with some coloring time. Meets every Tuesday evening (except 3/19). Always check the RPL online calendar\, as programs may be canceled w/out notice. \n\n\n\n\n\n\nThis storytime is great for introducing your preschooler to sitting while listening to stories and entertaining your kindergartener or first grader. Shared book titles count toward 1\,000 Books Before Kindergarten and other reading programs. Please always check the RPL online calendar\, as programs may be canceled w/out notice due to unplanned absence/illness or unavoidable schedule conflicts/changes.
URL:https://unitedforliteracy.info/event/rpl-east-branch-evening-storytime-ages-3-7-2/
LOCATION:Rockford Public Library – East Branch\, 6685 East State Street\, Rockford\, IL\, IL\, 61108\, United States
END:VEVENT
BEGIN:VEVENT
DTSTART;TZID=America/Chicago:20240104T101500
DTEND;TZID=America/Chicago:20240104T110000
DTSTAMP:20260422T082004
CREATED:20231220T184126Z
LAST-MODIFIED:20231220T184126Z
UID:10000042-1704363300-1704366000@unitedforliteracy.info
SUMMARY:RPL East Branch: Preschool Storytime (Ages 3-5)
DESCRIPTION:Meet new friends\, listen to stories and get moving in this fun\, interactive storytime designed to strengthen social\, fine motor and early literacy skills. Every Thursday except 1/25. \n\n\n\n\n\n\nPlease always check the online calendar via RPL’s website as programs may be canceled without notice due to unplanned absence/illness\, or unavoidable schedule conflicts/changes. Meets every Thursday morning in the Friends of RPL Community Room at East Branch. This storytime is supported by songs\, rhymes and activities. Shared books count toward 1\,000 Books Before Kindergarten and other reading programs.
URL:https://unitedforliteracy.info/event/rpl-east-branch-preschool-storytime-ages-3-5/
LOCATION:Rockford Public Library – East Branch\, 6685 East State Street\, Rockford\, IL\, IL\, 61108\, United States
END:VEVENT
BEGIN:VEVENT
DTSTART;TZID=America/Chicago:20240106T110000
DTEND;TZID=America/Chicago:20240106T120000
DTSTAMP:20260422T082004
CREATED:20231220T184311Z
LAST-MODIFIED:20231220T184311Z
UID:10000043-1704538800-1704542400@unitedforliteracy.info
SUMMARY:RPL Literacy Corner Storytime
DESCRIPTION:Soap\, Suds\, and Stories: Early Literacy at the Laundromat!\nBring your children to the RPL Literacy Corner here at Rockford Washer for a special Storytime hosted by an RPL staff member. \nAbout Literacy Corners at the Laundromat\nLiteracy Corners at the Laundromat is an outreach program that increases access to children’s books and promotes the development of early literacy skills for children and families who visit participating local laundromats. Each laundromat library would contain diverse books in English\, Spanish\, Arabic\, Karen (Burmese)\, French\, and Swahili for children ages 0-8. \nFamilies are invited to read while at the laundromat and browse parent resources provided by RPL.
URL:https://unitedforliteracy.info/event/rpl-literacy-corner-storytime/
LOCATION:Rockford Washer Laundry\, 3519 N. Main Street\, Rockford\, IL\, 61103\, United States
END:VEVENT
BEGIN:VEVENT
DTSTART;TZID=America/Chicago:20240108T100000
DTEND;TZID=America/Chicago:20240108T104500
DTSTAMP:20260422T082004
CREATED:20231220T184626Z
LAST-MODIFIED:20231220T184626Z
UID:10000044-1704708000-1704710700@unitedforliteracy.info
SUMMARY:RPL Hart Interim Library: Preschool Power Storytime
DESCRIPTION:Where: Hart Interim Library\, Read Play Learn \nBooks\, songs\, storytelling\, and crafts for children ages 3-5 \n\n\n\n\n\n\nAttention Preschoolers and Parents/Caregivers: Come to this fun-filled program for stories\, songs\, felt board rhymes\, and crafts that will give you “preschool power.”  We will work on the “ABCs and 123s” and science\, nature\, community\, and social/emotional skills by sharing picture books and related activities.  This program is developmentally designed for children ages 3-5.
URL:https://unitedforliteracy.info/event/rpl-hart-interim-library-preschool-power-storytime/
LOCATION:hart interim library\, 214 North Church Street\, Rockfor
END:VEVENT
BEGIN:VEVENT
DTSTART;TZID=America/Chicago:20240109T111500
DTEND;TZID=America/Chicago:20240109T114500
DTSTAMP:20260422T082004
CREATED:20231220T184842Z
LAST-MODIFIED:20231220T184842Z
UID:10000045-1704798900-1704800700@unitedforliteracy.info
SUMMARY:RPL Montague Branch: Tunes and Tales Storytime
DESCRIPTION:Where: Montague Branch\, Connie Lane Room \nJoin RPL for this active storytime! \n\n\n\n\n\n\nThe Montague Crew will read stories\, sing songs\, and have you up and dancing at this fun\, active storytime.
URL:https://unitedforliteracy.info/event/rpl-montague-branch-tunes-and-tales-storytime-2/
LOCATION:RPL: Montague Branch\, 1238 South Winnebago Street\, Rockford\, IL\, 61102\, United States
END:VEVENT
BEGIN:VEVENT
DTSTART;TZID=America/Chicago:20240109T180000
DTEND;TZID=America/Chicago:20240109T184500
DTSTAMP:20260422T082004
CREATED:20231220T185405Z
LAST-MODIFIED:20231220T185405Z
UID:10000046-1704823200-1704825900@unitedforliteracy.info
SUMMARY:RPL East Branch: Evening Storytime (Ages 3-7)
DESCRIPTION:Where: RPL East Branch\, Friends of RPL Community Room \nTuesday evening stories\, rhymes\, and songs topped off with some coloring time. Meets every Tuesday evening (except 3/19). Always check the RPS online calendar\, as programs may be canceled w/out notice. \n\n\n\n\n\n\nThis storytime is great for introducing your preschooler to sitting while listening to stories and entertaining your kindergartener or first grader. Shared book titles count toward 1\,000 Books Before Kindergarten and other reading programs. Please always check the RPS online calendar\, as programs may be canceled w/out notice due to unplanned absence/illness or unavoidable schedule conflicts/changes.
URL:https://unitedforliteracy.info/event/rpl-east-branch-evening-storytime-ages-3-7-3/
LOCATION:Rockford Public Library – East Branch\, 6685 East State Street\, Rockford\, IL\, IL\, 61108\, United States
END:VEVENT
BEGIN:VEVENT
DTSTART;TZID=America/Chicago:20240111T101500
DTEND;TZID=America/Chicago:20240111T110000
DTSTAMP:20260422T082004
CREATED:20231220T185646Z
LAST-MODIFIED:20231220T185646Z
UID:10000047-1704968100-1704970800@unitedforliteracy.info
SUMMARY:RPL East Branch: Preschool Storytime (Ages 3-5)
DESCRIPTION:Where: RPL East Branch\, Friends of RPL Community Room \nMeet new friends\, listen to stories\, and get moving in this fun\, interactive storytime designed to strengthen social\, fine motor\, and early literacy skills—every Thursday except 1/25. \n\n\n\n\n\n\nPlease always check the online calendar via RPL’s website\, as programs may be canceled without notice due to unplanned absence/illness or unavoidable schedule conflicts/changes. Meets every Thursday morning in the Friends of RPL Community Room at East Branch. Songs\, rhymes\, and activities support this storytime. Shared books count toward 1\,000 Books Before Kindergarten and other reading programs.
URL:https://unitedforliteracy.info/event/rpl-east-branch-preschool-storytime-ages-3-5-2/
LOCATION:Rockford Public Library – East Branch\, 6685 East State Street\, Rockford\, IL\, IL\, 61108\, United States
END:VEVENT
BEGIN:VEVENT
DTSTART;TZID=America/Chicago:20240115T100000
DTEND;TZID=America/Chicago:20240115T104500
DTSTAMP:20260422T082004
CREATED:20231220T190000Z
LAST-MODIFIED:20231220T190000Z
UID:10000048-1705312800-1705315500@unitedforliteracy.info
SUMMARY:RPL Hart Interim Library: Preschool Power Storytime
DESCRIPTION:Books\, songs\, storytelling\, and crafts for children ages 3-5 \n\n\n\n\n\n\nAttention Preschoolers and Parents/Caregivers: Come to this fun-filled program for stories\, songs\, felt board rhymes\, and crafts that will give you “preschool power.”  RPL staff will work on the “ABCs and 123s” as well as science\, nature\, community\, and social/emotional skills through the sharing of picture books and related activities.  This program is developmentally designed for children ages 3-5.
URL:https://unitedforliteracy.info/event/rpl-hart-interim-library-preschool-power-storytime-2/
LOCATION:hart interim library\, 214 North Church Street\, Rockfor
END:VEVENT
BEGIN:VEVENT
DTSTART;TZID=America/Chicago:20240116T111500
DTEND;TZID=America/Chicago:20240116T114500
DTSTAMP:20260422T082004
CREATED:20231220T190248Z
LAST-MODIFIED:20231220T190248Z
UID:10000049-1705403700-1705405500@unitedforliteracy.info
SUMMARY:RPL Montague Branch: Tunes and Tales Storytime
DESCRIPTION:Where: RPL Montague Branch\, Connie Lane Room \nJoin RPL for this active storytime! \n\n\n\n\n\n\nThe Montague Crew will read stories\, sing songs\, and have you up and dancing at this fun\, active storytime.
URL:https://unitedforliteracy.info/event/rpl-montague-branch-tunes-and-tales-storytime-3/
LOCATION:RPL: Montague Branch\, 1238 South Winnebago Street\, Rockford\, IL\, 61102\, United States
END:VEVENT
BEGIN:VEVENT
DTSTART;TZID=America/Chicago:20240116T180000
DTEND;TZID=America/Chicago:20240116T184500
DTSTAMP:20260422T082004
CREATED:20231220T190520Z
LAST-MODIFIED:20231220T190520Z
UID:10000050-1705428000-1705430700@unitedforliteracy.info
SUMMARY:RPL East Branch: Evening Storytime (Ages 3-7)
DESCRIPTION:Where: Friends of RPL Community Room \nTuesday evening stories\, rhymes\, and songs topped off with some coloring time. Meets every Tuesday evening (except 3/19). Always check the online calendar\, as programs may be canceled w/out notice. \n\n\n\n\n\n\nThis storytime is great for introducing your preschooler to sitting while listening to stories and entertaining your kindergartener or first grader. Shared book titles count toward 1\,000 Books Before Kindergarten and other reading programs. Please always check the online calendar\, as programs may be canceled w/out notice due to unplanned absence/illness or unavoidable schedule conflicts/changes.
URL:https://unitedforliteracy.info/event/rpl-east-branch-evening-storytime-ages-3-7-4/
LOCATION:Rockford Public Library – East Branch\, 6685 East State Street\, Rockford\, IL\, IL\, 61108\, United States
END:VEVENT
BEGIN:VEVENT
DTSTART;TZID=America/Chicago:20240118T101500
DTEND;TZID=America/Chicago:20240118T110000
DTSTAMP:20260422T082004
CREATED:20231220T190724Z
LAST-MODIFIED:20231220T190724Z
UID:10000051-1705572900-1705575600@unitedforliteracy.info
SUMMARY:RPL East Branch: Preschool Storytime (Ages 3-5)
DESCRIPTION:Meet new friends\, listen to stories\, and get moving in this fun\, interactive storytime designed to strengthen social\, fine motor\, and early literacy skills. Every Thursday except 1/25. \n\n\n\n\n\n\nPlease always check the online calendar via RPL’s website\, as programs may be canceled without notice due to unplanned absence/illness or unavoidable schedule conflicts/changes. Meets every Thursday morning in the Friends of RPL Community Room at East Branch. Songs\, rhymes\, and activities support this storytime. Shared books count toward 1\,000 Books Before Kindergarten and other reading programs.
URL:https://unitedforliteracy.info/event/rpl-east-branch-preschool-storytime-ages-3-5-3/
LOCATION:Rockford Public Library – East Branch\, 6685 East State Street\, Rockford\, IL\, IL\, 61108\, United States
END:VEVENT
BEGIN:VEVENT
DTSTART;TZID=America/Chicago:20240120T150000
DTEND;TZID=America/Chicago:20240120T160000
DTSTAMP:20260422T082004
CREATED:20231220T190918Z
LAST-MODIFIED:20231220T190918Z
UID:10000052-1705762800-1705766400@unitedforliteracy.info
SUMMARY:RPL Literacy Corner Storytime
DESCRIPTION:Soap\, Suds\, and Stories: Early Literacy at the Laundromat\n\n\n\nBooks\, songs\, and stories – we’re bringing the library to you! \n\n\n\n\n\n\nBring your children to the RPL Literacy Corner here at Rockford Washer for a special Storytime hosted by a staff member. \nAbout Literacy Corners at the Laundromat\nLiteracy Corners at the Laundromat is an outreach program that increases access to children’s books and promotes the development of early literacy skills for children and families who visit participating local laundromats. Each laundromat library would contain diverse books in English\, Spanish\, Arabic\, Karen (Burmese)\, French\, and Swahili for children ages 0-8. \nFamilies are invited to read while at the laundromat and browse parent resources provided by RPL.
URL:https://unitedforliteracy.info/event/rpl-literacy-corner-storytime-2/
LOCATION:Rockford Washer Laundry\, 3519 N. Main Street\, Rockford\, IL\, 61103\, United States
END:VEVENT
BEGIN:VEVENT
DTSTART;TZID=America/Chicago:20240122T100000
DTEND;TZID=America/Chicago:20240122T104500
DTSTAMP:20260422T082004
CREATED:20231220T191147Z
LAST-MODIFIED:20231220T191147Z
UID:10000053-1705917600-1705920300@unitedforliteracy.info
SUMMARY:RPL Hart Interim Library: Preschool Power Storytime
DESCRIPTION:Books\, songs\, storytelling\, and crafts for children ages 3-5 \n\n\n\n\n\n\nAttention Preschoolers and Parents/Caregivers: Come to this fun-filled program for stories\, songs\, felt board rhymes\, and crafts that will give you “preschool power.”  We will work on the “ABCs and 123s” and science\, nature\, community\, and social/emotional skills by sharing picture books and related activities.  This program is developmentally designed for children ages 3-5.
URL:https://unitedforliteracy.info/event/rpl-hart-interim-library-preschool-power-storytime-3/
LOCATION:hart interim library\, 214 North Church Street\, Rockfor
END:VEVENT
BEGIN:VEVENT
DTSTART;TZID=America/Chicago:20240123T111500
DTEND;TZID=America/Chicago:20240123T114500
DTSTAMP:20260422T082004
CREATED:20231220T191401Z
LAST-MODIFIED:20231220T191401Z
UID:10000054-1706008500-1706010300@unitedforliteracy.info
SUMMARY:RPL Montague Branch: Tunes and Tales Storytime
DESCRIPTION:Where: RPL Montague Branch\, Connie Lane Room \nJoin RPL for this active storytime! \n\n\n\n\n\n\nThe Montague Crew will read stories\, sing songs\, and have you up and dancing at this fun\, active storytime.
URL:https://unitedforliteracy.info/event/rpl-montague-branch-tunes-and-tales-storytime-4/
LOCATION:RPL: Montague Branch\, 1238 South Winnebago Street\, Rockford\, IL\, 61102\, United States
END:VEVENT
BEGIN:VEVENT
DTSTART;TZID=America/Chicago:20240123T180000
DTEND;TZID=America/Chicago:20240123T184500
DTSTAMP:20260422T082004
CREATED:20231220T191646Z
LAST-MODIFIED:20231220T191646Z
UID:10000055-1706032800-1706035500@unitedforliteracy.info
SUMMARY:RPL East Branch: Evening Storytime (Ages 3-7)
DESCRIPTION:Where: Friends of RPL Community Room \nTuesday evening stories\, rhymes\, and songs topped off with some coloring time. Meets every Tuesday evening (except 3/19). Always check the RPL online calendar\, as programs may be canceled w/out notice. \n\n\n\n\n\n\nThis storytime is great for introducing your preschooler to sitting while listening to stories and entertaining your kindergartener or first grader. Shared book titles count toward 1\,000 Books Before Kindergarten and other reading programs. Please always check the RPL online calendar\, as programs may be canceled w/out notice due to unplanned absence/illness or unavoidable schedule conflicts/changes.
URL:https://unitedforliteracy.info/event/rpl-east-branch-evening-storytime-ages-3-7-5/
LOCATION:Rockford Public Library – East Branch\, 6685 East State Street\, Rockford\, IL\, IL\, 61108\, United States
END:VEVENT
BEGIN:VEVENT
DTSTART;TZID=America/Chicago:20240129T100000
DTEND;TZID=America/Chicago:20240129T104500
DTSTAMP:20260422T082004
CREATED:20231220T191844Z
LAST-MODIFIED:20231220T191844Z
UID:10000056-1706522400-1706525100@unitedforliteracy.info
SUMMARY:RPL Hart Interim Library: Preschool Power Storytime
DESCRIPTION:Books\, songs\, storytelling\, and crafts for children ages 3-5 \n\n\n\n\n\n\nAttention Preschoolers and Parents/Caregivers: Come to this fun-filled program for stories\, songs\, felt board rhymes\, and crafts that will give you “preschool power.”  We will work on the “ABCs and 123s” and science\, nature\, community\, and social/emotional skills by sharing picture books and related activities.  This program is developmentally designed for children ages 3-5.
URL:https://unitedforliteracy.info/event/rpl-hart-interim-library-preschool-power-storytime-4/
LOCATION:hart interim library\, 214 North Church Street\, Rockfor
END:VEVENT
BEGIN:VEVENT
DTSTART;TZID=America/Chicago:20240130T111500
DTEND;TZID=America/Chicago:20240130T114500
DTSTAMP:20260422T082004
CREATED:20231220T192035Z
LAST-MODIFIED:20231220T192035Z
UID:10000057-1706613300-1706615100@unitedforliteracy.info
SUMMARY:RPL Montague Branch: Tunes and Tales Storytime
DESCRIPTION:Where: Connie Lane Room \nJoin RPL for this active storytime! \n\n\n\n\n\n\nThe Montague Crew will read stories\, sing songs\, and have you up and dancing at this fun\, active storytime.
URL:https://unitedforliteracy.info/event/rpl-montague-branch-tunes-and-tales-storytime-5/
LOCATION:RPL: Montague Branch\, 1238 South Winnebago Street\, Rockford\, IL\, 61102\, United States
END:VEVENT
BEGIN:VEVENT
DTSTART;TZID=America/Chicago:20240130T180000
DTEND;TZID=America/Chicago:20240130T184500
DTSTAMP:20260422T082004
CREATED:20231220T192334Z
LAST-MODIFIED:20231220T192334Z
UID:10000058-1706637600-1706640300@unitedforliteracy.info
SUMMARY:RPL East Branch: Evening Storytime (Ages 3-7)
DESCRIPTION:Where: Fiends of RPL Community Room \nTuesday evening stories\, rhymes\, and songs topped off with some coloring time. Meets every Tuesday evening (except 3/19). Always check the RPL online calendar\, as programs may be canceled w/out notice. \n\n\n\n\n\n\nThis storytime is great for introducing your preschooler to sitting while listening to stories and entertaining your kindergartener or first grader. Shared book titles count toward 1\,000 Books Before Kindergarten and other reading programs. Please always check the RPL online calendar\, as programs may be canceled w/out notice due to unplanned absence/illness or unavoidable schedule conflicts/changes.
URL:https://unitedforliteracy.info/event/rpl-east-branch-evening-storytime-ages-3-7-6/
LOCATION:Rockford Public Library – East Branch\, 6685 East State Street\, Rockford\, IL\, IL\, 61108\, United States
END:VEVENT
END:VCALENDAR