BEGIN:VCALENDAR
VERSION:2.0
PRODID:-//United for Literacy - ECPv6.15.20//NONSGML v1.0//EN
CALSCALE:GREGORIAN
METHOD:PUBLISH
X-ORIGINAL-URL:https://unitedforliteracy.info
X-WR-CALDESC:Events for United for Literacy
REFRESH-INTERVAL;VALUE=DURATION:PT1H
X-Robots-Tag:noindex
X-PUBLISHED-TTL:PT1H
BEGIN:VTIMEZONE
TZID:America/Chicago
BEGIN:DAYLIGHT
TZOFFSETFROM:-0600
TZOFFSETTO:-0500
TZNAME:CDT
DTSTART:20220313T080000
END:DAYLIGHT
BEGIN:STANDARD
TZOFFSETFROM:-0500
TZOFFSETTO:-0600
TZNAME:CST
DTSTART:20221106T070000
END:STANDARD
BEGIN:DAYLIGHT
TZOFFSETFROM:-0600
TZOFFSETTO:-0500
TZNAME:CDT
DTSTART:20230312T080000
END:DAYLIGHT
BEGIN:STANDARD
TZOFFSETFROM:-0500
TZOFFSETTO:-0600
TZNAME:CST
DTSTART:20231105T070000
END:STANDARD
BEGIN:DAYLIGHT
TZOFFSETFROM:-0600
TZOFFSETTO:-0500
TZNAME:CDT
DTSTART:20240310T080000
END:DAYLIGHT
BEGIN:STANDARD
TZOFFSETFROM:-0500
TZOFFSETTO:-0600
TZNAME:CST
DTSTART:20241103T070000
END:STANDARD
END:VTIMEZONE
BEGIN:VEVENT
DTSTART;TZID=America/Chicago:20231101T090000
DTEND;TZID=America/Chicago:20231130T170000
DTSTAMP:20260422T114734
CREATED:20231107T202945Z
LAST-MODIFIED:20231107T202945Z
UID:10000039-1698829200-1701363600@unitedforliteracy.info
SUMMARY:North Suburban Library District: Celebrate Family Reading in November!
DESCRIPTION:Event Details\n\nStop by NSLD Children’s Services Department in November to get a book to read together. \nLimit one book per family. \nFamily Reading Night is Thursday\, November 16. \nCelebrate reading together all month long!
URL:https://unitedforliteracy.info/event/north-suburban-library-district-celebrate-family-reading-in-november/
LOCATION:North Suburban Library District\, 6340 N. 2nd St
END:VEVENT
BEGIN:VEVENT
DTSTART;TZID=America/Chicago:20231101T100000
DTEND;TZID=America/Chicago:20231101T110000
DTSTAMP:20260422T114734
CREATED:20231023T151954Z
LAST-MODIFIED:20231023T151954Z
UID:10000006-1698832800-1698836400@unitedforliteracy.info
SUMMARY:RPL: Babes and Books\, November 1
DESCRIPTION:Where: Hart Interim Library \nWhat: Storytime for babies and toddlers! \nThis interactive storytime for young children from birth to 24 months focuses on their development\, incorporating music\, movement\, and reading. \n\n\n\n\n\n\nBabes and Books is a small group storytime for infants through 24 months incorporating storytelling\, singing\, movement\, and playtime. (Older preschoolers are also welcome.) \nJoin Miss Ellen every Wednesday for Babes and Books!
URL:https://unitedforliteracy.info/event/rpl-babes-and-books-november-1/
LOCATION:hart interim library\, 214 North Church Street\, Rockfor
END:VEVENT
BEGIN:VEVENT
DTSTART;TZID=America/Chicago:20231101T161500
DTEND;TZID=America/Chicago:20231101T170000
DTSTAMP:20260422T114734
CREATED:20231031T151706Z
LAST-MODIFIED:20231031T151706Z
UID:10000010-1698855300-1698858000@unitedforliteracy.info
SUMMARY:Mobile Library-Family Fun at Five Alarm Coin Laundry\, November 1
DESCRIPTION:Stop into the Rockford Public Library’s Mobile Library. \n\n\n\n\n\n\nThe Mobile Library Crew will bring out games and crafts for your whole family to enjoy together. \nJoin us aboard the Rockford Public Library’s Mobile Library! You can sign up for a library card\, place and pick up holds\, find your next favorite book or movie\, and even check out a Chromebook or Hot Spot (call 815-966-2741 to check availability). \nRPL will be visiting this stop every week!
URL:https://unitedforliteracy.info/event/mobile-library-family-fun-at-five-alarm-coin-laundry-november-1/
LOCATION:Five Alarm Coin Laundry\, 3939 W. Riverside Blvd.\, Rockford\, IL\, 61101\, United States
END:VEVENT
BEGIN:VEVENT
DTSTART;TZID=America/Chicago:20231104T101500
DTEND;TZID=America/Chicago:20231104T110000
DTSTAMP:20260422T114734
CREATED:20231023T153844Z
LAST-MODIFIED:20231023T153844Z
UID:10000008-1699092900-1699095600@unitedforliteracy.info
SUMMARY:Storytime with the Mobile Library at Happy Life Laundry\, November 4
DESCRIPTION:Where: Happy Life Laundry \nStop into the Rockford Public Library’s Mobile Library. \n\n\n\n\n\n\nThe Mobile Library Crew will perform a storytime that includes singing\, movement\, and crafts for your whole family to enjoy together. \nAfter the storytime\, families can join us at the Rockford Public Library’s Mobile Library! You can sign up for a library card\, place and pick up holds\, find your next favorite book or movie\, and even check out a Chromebook or Hot Spot (call 815-966-2741 to check availability). \nWe will be visiting this stop every week starting September 30\, except for the following dates: \nOctober 21 \nNovember 25 \nDecember 23 & 30
URL:https://unitedforliteracy.info/event/storytime-with-the-mobile-library-at-happy-life-laundry-november-4/
LOCATION:Happy Life Coin Laundry of Rockford\, 7215 Cherryvale N. Blvd.\, Rockford\, Illinois
END:VEVENT
BEGIN:VEVENT
DTSTART;TZID=America/Chicago:20231109T173000
DTEND;TZID=America/Chicago:20231109T183000
DTSTAMP:20260422T114734
CREATED:20231031T153257Z
LAST-MODIFIED:20231031T153257Z
UID:10000012-1699551000-1699554600@unitedforliteracy.info
SUMMARY:RPL: United for Literacy Training\, Every Child Ready to Read\, November 9
DESCRIPTION:For parents of young children\, volunteers\, professionals\, and community members. Held in the Friends of RPL Community Room. \n\n\n\n\n\n\nUnited Way of Rock River Valley and Rockford Public Library invite you to a free\, one-hour training.  This training is suitable for parents of young children and all volunteers who will be sharing early literacy skills with children and families of young children (infant to pre-k).  Professionals who would like to learn more about early childhood reading readiness will also benefit from this training. \nThis training provides loads of early literacy tips\, and participants will leave with a goody bag\, including a wonderful picture book perfect for sharing with children and families.  The training is based on the American Library Association’s Every Child Ready to Read curriculum and supports the current United Way initiative – United for Literacy: Read to Succeed. \nThe 60-minute training will have 45 minutes of material\, ending with a 15-minute “storytime” demo.  This training is interactive\, and there will be time for questions. \nIf you would like more information\, please contact Brook Loomis at Rockford Public Library at bloomis@rockfordpubliclibrary.org \n 
URL:https://unitedforliteracy.info/event/rpl-united-for-literacy-training-every-child-ready-to-read-november-9/
LOCATION:YWCA of Northwestern IL\, 4990 East State Street\, Rockford\, IL\, 61108\, United States
END:VEVENT
BEGIN:VEVENT
DTSTART;TZID=America/Chicago:20231113T100000
DTEND;TZID=America/Chicago:20231113T104500
DTSTAMP:20260422T114734
CREATED:20231031T192942Z
LAST-MODIFIED:20231031T192942Z
UID:10000014-1699869600-1699872300@unitedforliteracy.info
SUMMARY:RPL: Preschool Power Storytime
DESCRIPTION:Books\, songs\, storytelling\, and crafts for children ages 3-5 \n\n\n\n\n\n\nAttention Preschoolers and Parents/Caregivers: Come to this fun-filled program for stories\, songs\, felt board rhymes\, and crafts that will give you “preschool power.”  We will work on the “ABCs and 123s” as well as science\, nature\, community\, and social/emotional skills through the sharing of picture books and related activities.  This program is developmentally designed for children ages 3-5.
URL:https://unitedforliteracy.info/event/rpl-preschool-power-storytime/
LOCATION:hart interim library\, 214 North Church Street\, Rockfor
END:VEVENT
BEGIN:VEVENT
DTSTART;TZID=America/Chicago:20231114T180000
DTEND;TZID=America/Chicago:20231114T184500
DTSTAMP:20260422T114734
CREATED:20231031T152048Z
LAST-MODIFIED:20231031T152048Z
UID:10000011-1699984800-1699987500@unitedforliteracy.info
SUMMARY:RPL East: Evening Storytime\, November 14
DESCRIPTION:Tuesday evening stories\, rhymes\, and songs topped off with a little coloring time. (Except 11/7\, 12/26) \n\n\n\n\n\n\nFor ages 3 – 7\, this storytime is excellent for introducing your preschooler to sitting while listening to stories and entertaining your kindergartener or first grader. Shared book titles count toward 1\,000 Books Before Kindergarten\, other RPL reading programs\, and reading minutes.
URL:https://unitedforliteracy.info/event/rpl-east-evening-storytime-november-14/
LOCATION:Rockford Public Library – East Branch\, 6685 East State Street\, Rockford\, IL\, IL\, 61108\, United States
END:VEVENT
BEGIN:VEVENT
DTSTART;TZID=America/Chicago:20231115T100000
DTEND;TZID=America/Chicago:20231115T110000
DTSTAMP:20260422T114734
CREATED:20231031T193210Z
LAST-MODIFIED:20231031T193210Z
UID:10000015-1700042400-1700046000@unitedforliteracy.info
SUMMARY:RPL Hart Interim Library: Babes and Books
DESCRIPTION:This interactive storytime for young children from birth to 24 months focuses on their development\, incorporating music\, movement\, and reading. \n\n\n\n\n\n\nBabes and Books is a small group storytime for infants through 24 months incorporating storytelling\, singing\, movement\, and playtime. (Older preschoolers are welcome also.) \nJoin Miss Ellen every Wednesday for Babes and Books!
URL:https://unitedforliteracy.info/event/rpl-hart-interim-library-babes-and-books/
LOCATION:hart interim library\, 214 North Church Street\, Rockfor
END:VEVENT
BEGIN:VEVENT
DTSTART;TZID=America/Chicago:20231116T101500
DTEND;TZID=America/Chicago:20231116T110000
DTSTAMP:20260422T114734
CREATED:20231031T193434Z
LAST-MODIFIED:20231031T193434Z
UID:10000016-1700129700-1700132400@unitedforliteracy.info
SUMMARY:RPL East: Preschool Storytime
DESCRIPTION:Meet new friends\, listen to stories\, and get moving in this fun\, interactive storytime designed to strengthen social\, fine motor\, and early literacy skills. (except 10/26\, 11/2\, 11/23\, 12/21\, 12/28) \n\n\n\n\n\n\nSongs\, rhymes\, and activities support this storytime as we help you prepare your child for kindergarten. Shared books count toward 1\,000 Books Before Kindergarten\, other RPL reading programs\, and reading minutes.
URL:https://unitedforliteracy.info/event/rpl-east-preschool-storytime/
LOCATION:Rockford Public Library – East Branch\, 6685 East State Street\, Rockford\, IL\, IL\, 61108\, United States
END:VEVENT
BEGIN:VEVENT
DTSTART;TZID=America/Chicago:20231121T180000
DTEND;TZID=America/Chicago:20231121T184500
DTSTAMP:20260422T114734
CREATED:20231031T193715Z
LAST-MODIFIED:20231031T193715Z
UID:10000017-1700589600-1700592300@unitedforliteracy.info
SUMMARY:RPL East: Evening Storytime
DESCRIPTION:Tuesday evening stories\, rhymes\, and songs topped off with a little coloring time. (Except 11/7\, 12/26) \n\n\n\n\n\n\nFor ages 3 – 7\, this storytime is great for introducing your preschooler to sitting while listening to stories as well as entertaining your kindergartener or first grader. Shared book titles count toward 1\,000 Books Before Kindergarten\, other RPL reading programs\, and reading minutes.
URL:https://unitedforliteracy.info/event/rpl-east-evening-storytime/
LOCATION:Rockford Public Library – East Branch\, 6685 East State Street\, Rockford\, IL\, IL\, 61108\, United States
END:VEVENT
BEGIN:VEVENT
DTSTART;TZID=America/Chicago:20231122T100000
DTEND;TZID=America/Chicago:20231122T230000
DTSTAMP:20260422T114734
CREATED:20231031T193949Z
LAST-MODIFIED:20231031T193949Z
UID:10000018-1700647200-1700694000@unitedforliteracy.info
SUMMARY:RPL Hart Interim Library: Babes and Books
DESCRIPTION:This interactive storytime for young children from birth to 24 months focuses on their development\, incorporating music\, movement\, and reading. \n\n\n\n\n\n\nBabes and Books is a small group storytime for infants through 24 months incorporating storytelling\, singing\, movement\, and playtime. (Older preschoolers are welcome also.) \nJoin Miss Ellen every Wednesday for Babes and Books!
URL:https://unitedforliteracy.info/event/rpl-hart-interim-library-babes-and-books-2/
LOCATION:hart interim library\, 214 North Church Street\, Rockfor
END:VEVENT
BEGIN:VEVENT
DTSTART;TZID=America/Chicago:20231127T100000
DTEND;TZID=America/Chicago:20231127T104500
DTSTAMP:20260422T114734
CREATED:20231031T195047Z
LAST-MODIFIED:20231031T195047Z
UID:10000019-1701079200-1701081900@unitedforliteracy.info
SUMMARY:Preschool Power Storytime
DESCRIPTION:Books\, songs\, storytelling\, and crafts for children ages 3-5 \n\n\n\n\n\n\nAttention Preschoolers and Parents/Caregivers: Come to this fun-filled program for stories\, songs\, felt board rhymes\, and crafts that will give you “preschool power.”  We will work on the “ABCs and 123s” as well as science\, nature\, community\, and social/emotional skills through the sharing of picture books and related activities.  This program is developmentally designed for children ages 3-5.
URL:https://unitedforliteracy.info/event/preschool-power-storytime/
LOCATION:hart interim library\, 214 North Church Street\, Rockfor
END:VEVENT
BEGIN:VEVENT
DTSTART;TZID=America/Chicago:20231129T100000
DTEND;TZID=America/Chicago:20231129T110000
DTSTAMP:20260422T114734
CREATED:20231031T195301Z
LAST-MODIFIED:20231031T195301Z
UID:10000020-1701252000-1701255600@unitedforliteracy.info
SUMMARY:RPL Hart Interim Library: Babes and Books
DESCRIPTION:This interactive storytime for young children from birth to 24 months focuses on their development\, incorporating music\, movement\, and reading. \n\n\n\n\n\n\nBabes and Books is a small group storytime for infants through 24 months incorporating storytelling\, singing\, movement\, and playtime. (Older preschoolers are welcome also.) \nJoin Miss Ellen every Wednesday for Babes and Books!
URL:https://unitedforliteracy.info/event/rpl-hart-interim-library-babes-and-books-3/
LOCATION:hart interim library\, 214 North Church Street\, Rockfor
END:VEVENT
BEGIN:VEVENT
DTSTART;TZID=America/Chicago:20231130T090000
DTEND;TZID=America/Chicago:20231130T094500
DTSTAMP:20260422T114734
CREATED:20231031T200149Z
LAST-MODIFIED:20231031T200149Z
UID:10000021-1701334800-1701337500@unitedforliteracy.info
SUMMARY:Storytime with the Mobile Library at Brooke Road Church
DESCRIPTION:Stop into the Rockford Public Library’s Mobile Library. \n\n\n\n\n\n\nThe Mobile Library Crew will perform\, including singing\, movement\, and rafts for your family to enjoy together. \nAfter the storytime\, families can join us at the Rockford Public Library’s Mobile Library! You can sign up for a library card\, place and pick up holds\, find your next favorite book or movie\, and even check out a Chromebook or Hot Spot (call 815-966-2741 to check availability). \nWe will be visiting this stop every three weeks!
URL:https://unitedforliteracy.info/event/storytime-with-the-mobile-library-at-brooke-road-church/
LOCATION:Brooke Road United Methodist Church\, 1404 Brooke Rd\, Rockford\, Ill\, 61109
END:VEVENT
END:VCALENDAR