BEGIN:VCALENDAR
VERSION:2.0
PRODID:-//United for Literacy - ECPv6.15.20//NONSGML v1.0//EN
CALSCALE:GREGORIAN
METHOD:PUBLISH
X-ORIGINAL-URL:https://unitedforliteracy.info
X-WR-CALDESC:Events for United for Literacy
REFRESH-INTERVAL;VALUE=DURATION:PT1H
X-Robots-Tag:noindex
X-PUBLISHED-TTL:PT1H
BEGIN:VTIMEZONE
TZID:America/Chicago
BEGIN:DAYLIGHT
TZOFFSETFROM:-0600
TZOFFSETTO:-0500
TZNAME:CDT
DTSTART:20230312T080000
END:DAYLIGHT
BEGIN:STANDARD
TZOFFSETFROM:-0500
TZOFFSETTO:-0600
TZNAME:CST
DTSTART:20231105T070000
END:STANDARD
BEGIN:DAYLIGHT
TZOFFSETFROM:-0600
TZOFFSETTO:-0500
TZNAME:CDT
DTSTART:20240310T080000
END:DAYLIGHT
BEGIN:STANDARD
TZOFFSETFROM:-0500
TZOFFSETTO:-0600
TZNAME:CST
DTSTART:20241103T070000
END:STANDARD
BEGIN:DAYLIGHT
TZOFFSETFROM:-0600
TZOFFSETTO:-0500
TZNAME:CDT
DTSTART:20250309T080000
END:DAYLIGHT
BEGIN:STANDARD
TZOFFSETFROM:-0500
TZOFFSETTO:-0600
TZNAME:CST
DTSTART:20251102T070000
END:STANDARD
END:VTIMEZONE
BEGIN:VEVENT
DTSTART;TZID=America/Chicago:20241008T111500
DTEND;TZID=America/Chicago:20241008T120000
DTSTAMP:20260421T190035
CREATED:20240510T155003Z
LAST-MODIFIED:20240510T155003Z
UID:10000125-1728386100-1728388800@unitedforliteracy.info
SUMMARY:RPL's Tunes and Tales Storytime
DESCRIPTION:Join RPL for this active Storytime! \n\n\n\n\n\n\nThe Montague Crew will read stories\, sing songs\, and have your child up and dancing at this fun\, active story time. \nWhere: Montague branch\, Connie Lane Room
URL:https://unitedforliteracy.info/event/rpls-tunes-and-tales-storytime/2024-10-08/
LOCATION:RPL: Montague Branch\, 1238 South Winnebago Street\, Rockford\, IL\, 61102\, United States
END:VEVENT
BEGIN:VEVENT
DTSTART;TZID=America/Chicago:20241008T160000
DTEND;TZID=America/Chicago:20241008T170000
DTSTAMP:20260421T190035
CREATED:20241008T184819Z
LAST-MODIFIED:20241008T185248Z
UID:10000799-1728403200-1728406800@unitedforliteracy.info
SUMMARY:Alignment Rockford's Ready to Learn Space Story Time\, October 8 & 22
DESCRIPTION:Join Alignment Rockford for family story time and activities for children on Tuesday\, October 8\, from 4:00 pm-5:00 pm at the Irving Avenue Strong Neighborhood House\,\n312 Irving Avenue\, in Rockford. All children will receive a free book to take home!
URL:https://unitedforliteracy.info/event/alignment-rockfords-ready-to-learn-space-story-time-october-8/2024-10-08/
LOCATION:Irving Avenue Strong Neighborhood House\, 312 Irving Avenue\, Rockford\, United States
END:VEVENT
END:VCALENDAR