BEGIN:VCALENDAR
VERSION:2.0
PRODID:-//United for Literacy - ECPv6.15.20//NONSGML v1.0//EN
CALSCALE:GREGORIAN
METHOD:PUBLISH
X-ORIGINAL-URL:https://unitedforliteracy.info
X-WR-CALDESC:Events for United for Literacy
REFRESH-INTERVAL;VALUE=DURATION:PT1H
X-Robots-Tag:noindex
X-PUBLISHED-TTL:PT1H
BEGIN:VTIMEZONE
TZID:America/Chicago
BEGIN:DAYLIGHT
TZOFFSETFROM:-0600
TZOFFSETTO:-0500
TZNAME:CDT
DTSTART:20230312T080000
END:DAYLIGHT
BEGIN:STANDARD
TZOFFSETFROM:-0500
TZOFFSETTO:-0600
TZNAME:CST
DTSTART:20231105T070000
END:STANDARD
BEGIN:DAYLIGHT
TZOFFSETFROM:-0600
TZOFFSETTO:-0500
TZNAME:CDT
DTSTART:20240310T080000
END:DAYLIGHT
BEGIN:STANDARD
TZOFFSETFROM:-0500
TZOFFSETTO:-0600
TZNAME:CST
DTSTART:20241103T070000
END:STANDARD
BEGIN:DAYLIGHT
TZOFFSETFROM:-0600
TZOFFSETTO:-0500
TZNAME:CDT
DTSTART:20250309T080000
END:DAYLIGHT
BEGIN:STANDARD
TZOFFSETFROM:-0500
TZOFFSETTO:-0600
TZNAME:CST
DTSTART:20251102T070000
END:STANDARD
END:VTIMEZONE
BEGIN:VEVENT
DTSTART;TZID=America/Chicago:20240513T100000
DTEND;TZID=America/Chicago:20240513T104500
DTSTAMP:20260422T030216
CREATED:20240510T152240Z
LAST-MODIFIED:20240510T152240Z
UID:10000105-1715594400-1715597100@unitedforliteracy.info
SUMMARY:RPL's Preschool Power Storytime
DESCRIPTION:Books\, songs\, storytelling\, and crafts for children ages 3-5 \n\n\n\n\n\n\nAttention Preschoolers and Parents/Caregivers: Come to this fun-filled program for stories\, songs\, felt-board rhymes\, and crafts that will give you “preschool power.”  We will work on the “ABCS and 123s” as well as science\, nature\, community\, and social/emotional skills by sharing picture books and related activities. This program is developmentally designed for children ages 3-
URL:https://unitedforliteracy.info/event/rpls-preschool-power-storytime/2024-05-13/
LOCATION:hart interim library\, 214 North Church Street\, Rockfor
END:VEVENT
END:VCALENDAR