BEGIN:VCALENDAR
VERSION:2.0
PRODID:-//United for Literacy - ECPv6.15.20//NONSGML v1.0//EN
CALSCALE:GREGORIAN
METHOD:PUBLISH
X-ORIGINAL-URL:https://unitedforliteracy.info
X-WR-CALDESC:Events for United for Literacy
REFRESH-INTERVAL;VALUE=DURATION:PT1H
X-Robots-Tag:noindex
X-PUBLISHED-TTL:PT1H
BEGIN:VTIMEZONE
TZID:America/Chicago
BEGIN:DAYLIGHT
TZOFFSETFROM:-0600
TZOFFSETTO:-0500
TZNAME:CDT
DTSTART:20220313T080000
END:DAYLIGHT
BEGIN:STANDARD
TZOFFSETFROM:-0500
TZOFFSETTO:-0600
TZNAME:CST
DTSTART:20221106T070000
END:STANDARD
BEGIN:DAYLIGHT
TZOFFSETFROM:-0600
TZOFFSETTO:-0500
TZNAME:CDT
DTSTART:20230312T080000
END:DAYLIGHT
BEGIN:STANDARD
TZOFFSETFROM:-0500
TZOFFSETTO:-0600
TZNAME:CST
DTSTART:20231105T070000
END:STANDARD
BEGIN:DAYLIGHT
TZOFFSETFROM:-0600
TZOFFSETTO:-0500
TZNAME:CDT
DTSTART:20240310T080000
END:DAYLIGHT
BEGIN:STANDARD
TZOFFSETFROM:-0500
TZOFFSETTO:-0600
TZNAME:CST
DTSTART:20241103T070000
END:STANDARD
END:VTIMEZONE
BEGIN:VEVENT
DTSTART;TZID=America/Chicago:20231207T101500
DTEND;TZID=America/Chicago:20231207T110000
DTSTAMP:20260422T114635
CREATED:20231106T173506Z
LAST-MODIFIED:20231106T173506Z
UID:10000025-1701944100-1701946800@unitedforliteracy.info
SUMMARY:RPL: Preschool Storytime (Ages 3 - 5)
DESCRIPTION:Location: Rockford Public Library East Branch\, in the Friends of RPL Community Room \nMeet new friends\, listen to stories\, and get moving in this fun\, interactive storytime designed to strengthen social\, fine motor\, and early literacy skills. (except 11/2\, 11/23\, 12/21\, 12/28) \n\n\n\n\n\n\nSongs\, rhymes\, and activities support this storytime as we help you prepare your child for kindergarten. Shared books count toward 1\,000 Books Before Kindergarten\, other RPL reading programs\, and reading minutes.
URL:https://unitedforliteracy.info/event/rpl-preschool-storytime-ages-3-5/
LOCATION:Rockford Public Library – East Branch\, 6685 East State Street\, Rockford\, IL\, IL\, 61108\, United States
END:VEVENT
BEGIN:VEVENT
DTSTART;TZID=America/Chicago:20231207T180000
DTEND;TZID=America/Chicago:20231207T190000
DTSTAMP:20260422T114635
CREATED:20231031T174735Z
LAST-MODIFIED:20231031T174735Z
UID:10000013-1701972000-1701975600@unitedforliteracy.info
SUMMARY:United for Literacy Storytime Event\, December 7
DESCRIPTION:Join us Thursday\, December 7\, for United for Literacy Storytime\, from 6:00 to 7:00 PM at the YWCA of Northwestern IL\, 4990 East State Street\, in Rockford. Doors will open at 5:30 PM. Come and enjoy this FREE storytime with The Grinch and some of his friends.  And\, feel free to wear your favorite “ugly” sweater! \nReserve your spot by calling 815-484-9448 ext. 211. Please RSVP by December 4. All registered participants will be able to take home a free book\, courtesy of United Way of Rock River Valley.
URL:https://unitedforliteracy.info/event/united-for-literacy-storytime-event-december-7/
LOCATION:YWCA of Northwestern IL\, 4990 East State Street\, Rockford\, IL\, 61108\, United States
END:VEVENT
END:VCALENDAR