BEGIN:VCALENDAR
VERSION:2.0
PRODID:-//United for Literacy - ECPv6.15.20//NONSGML v1.0//EN
CALSCALE:GREGORIAN
METHOD:PUBLISH
X-ORIGINAL-URL:https://unitedforliteracy.info
X-WR-CALDESC:Events for United for Literacy
REFRESH-INTERVAL;VALUE=DURATION:PT1H
X-Robots-Tag:noindex
X-PUBLISHED-TTL:PT1H
BEGIN:VTIMEZONE
TZID:America/Chicago
BEGIN:DAYLIGHT
TZOFFSETFROM:-0600
TZOFFSETTO:-0500
TZNAME:CDT
DTSTART:20220313T080000
END:DAYLIGHT
BEGIN:STANDARD
TZOFFSETFROM:-0500
TZOFFSETTO:-0600
TZNAME:CST
DTSTART:20221106T070000
END:STANDARD
BEGIN:DAYLIGHT
TZOFFSETFROM:-0600
TZOFFSETTO:-0500
TZNAME:CDT
DTSTART:20230312T080000
END:DAYLIGHT
BEGIN:STANDARD
TZOFFSETFROM:-0500
TZOFFSETTO:-0600
TZNAME:CST
DTSTART:20231105T070000
END:STANDARD
BEGIN:DAYLIGHT
TZOFFSETFROM:-0600
TZOFFSETTO:-0500
TZNAME:CDT
DTSTART:20240310T080000
END:DAYLIGHT
BEGIN:STANDARD
TZOFFSETFROM:-0500
TZOFFSETTO:-0600
TZNAME:CST
DTSTART:20241103T070000
END:STANDARD
END:VTIMEZONE
BEGIN:VEVENT
DTSTART;TZID=America/Chicago:20231028T093000
DTEND;TZID=America/Chicago:20231028T120000
DTSTAMP:20260422T145345
CREATED:20231010T170629Z
LAST-MODIFIED:20231010T171014Z
UID:10000002-1698485400-1698494400@unitedforliteracy.info
SUMMARY:Halloween on the Square: Trunk or Treat\, October 28
DESCRIPTION:Join Durand Charm for Trunk or Treat as part of Halloween on the Square (Durand Square–Center Street) on Saturday\, October 28. A costume parade begins at 10:00 a.m.; registration begins at 9:30 a.m. Durand Charm’s trunk will feature the books (either instead of or in addition to candy). \nTrunk or Treat vehicles: Please line up in the parking lot between Rare Scum and Bryden Ford at 9:30 am. Decorate your car and dress up as your favorite character. Pirates\, princesses\, and more will parade by your car and “Trunk or Treat” for Halloween goodies. This is a family-friendly event\, please\, no scary costumes. All treats must be store-bought and pre-packaged. \nNo registration is required. Thank you for participating! \n\nBusinesses on the Square are also open for Trick or Treating until Noon on Saturday. \n\n  \n  \n 
URL:https://unitedforliteracy.info/event/halloween-on-the-square-trunk-or-treat-october-28/
LOCATION:Durand Square
END:VEVENT
BEGIN:VEVENT
DTSTART;TZID=America/Chicago:20231028T110000
DTEND;TZID=America/Chicago:20231028T123000
DTSTAMP:20260422T145345
CREATED:20231023T150322Z
LAST-MODIFIED:20231023T150322Z
UID:10000003-1698490800-1698496200@unitedforliteracy.info
SUMMARY:RPL 3rd Annual Trunk or Treat\, October 28
DESCRIPTION:Candy/games/giveaways/vote for your favorite Trunk! Costumed children only\, please. Rain/snow/shine\, so dress for the weather. Bring your own bag to 6685 E. State St.\, 11:00A – 12:30P. \nJoin the fun at East Branch’s 3rd Annual Trunk or Treat! Play games\, collect some candy\, win a prize or two\, and vote for your favorite decorated Trunk! Bring your own bag and dress for the weather. Parking in the RPL lot is limited; you may find it easier to park in the large lot where Half Price Books Outlet used to be (behind RPL). \nPLEASE NOTE: This event will be held outside and may include occasional lines in any weather. Dress for the weather. If heavy rain and/or severe weather threatens\, we will be forced to cancel or shut down without notice. No rain date. While supplies last.
URL:https://unitedforliteracy.info/event/rpl-3rd-annual-trunk-or-treat-october-28/
LOCATION:Rockford Public Library – East Branch\, 6685 East State Street\, Rockford\, IL\, IL\, 61108\, United States
END:VEVENT
END:VCALENDAR